BEGIN:VCALENDAR
VERSION:2.0
PRODID:-//Nova Scotia Advocate - ECPv6.9.0//NONSGML v1.0//EN
CALSCALE:GREGORIAN
METHOD:PUBLISH
X-ORIGINAL-URL:https://nsadvocate.org
X-WR-CALDESC:Events for Nova Scotia Advocate
REFRESH-INTERVAL;VALUE=DURATION:PT1H
X-Robots-Tag:noindex
X-PUBLISHED-TTL:PT1H
BEGIN:VTIMEZONE
TZID:America/Glace_Bay
BEGIN:DAYLIGHT
TZOFFSETFROM:-0400
TZOFFSETTO:-0300
TZNAME:ADT
DTSTART:20210314T060000
END:DAYLIGHT
BEGIN:STANDARD
TZOFFSETFROM:-0300
TZOFFSETTO:-0400
TZNAME:AST
DTSTART:20211107T050000
END:STANDARD
END:VTIMEZONE
BEGIN:VEVENT
DTSTART;TZID=America/Glace_Bay:20210119T190000
DTEND;TZID=America/Glace_Bay:20210119T210000
DTSTAMP:20260422T224254
CREATED:20210119T144726Z
LAST-MODIFIED:20210120T131331Z
UID:18823-1611082800-1611090000@nsadvocate.org
SUMMARY:Panel to examine impacts of Trumpism and U.S. Capitol riots on the future of politics - Dalhousie University
DESCRIPTION:Gerald Neal\, a Democratic Party member of the Kentucky State Senate\, joins experts from Dalhousie\, Acadia and Mount Saint Vincent universities next week to reflect on the tumultuous events that have roiled politics south of the border in recent weeks. \nPanelists will explore the violent events of January 6 in Washington\, D.C.\, when legions of Trump supporters overran the U.S. Capitol Building — temporarily delaying certification of U.S. presidential results by the country’s top legislators and creating chaos that led to several deaths. \nAt the heart of the discussion will be a look into the continued influence of outgoing President Donald Trump and how Trumpism could bring further destabilization into politics in the U.S. and beyond\, even as President-Elect Joe Biden is set to take office on Jan. 20. \n“The assault on the Capitol inspired by President Donald Trump was a traumatic and unprecedented event. Not only was this act of insurrection a travesty\, it was incited\, at least in part\, by the most powerful person in the world\,” Senator Neal\, pictured above right\, wrote to citizens and supporters in his legislative update last week. \n“The fascist outfits that were on display\, were juxtaposed to the symbols and ideals of the greatest democracy in the world\,” he continued in his note. “This was a comfort to those\, foreign and domestic\, that seek to undermine and divide us — and an embarrassment to those that look to the United States for leadership.” \nAttendees at next Tuesday’s (Jan. 19\, 7pm Atlantic/6pm Eastern) virtual event\, Trump\, Trumpism and the Struggle for the Future\, will have the chance to hear more from Senator Neal\, as well as the individuals below. Register now for the Zoom panel.\n\nDr. Rachel Brickner (Department of Politics\, Acadia University) \nDr. Lissa Skitolsky (Simon and Riva Spatz Visiting Chair of Jewish Studies\, Dalhousie University) \nDr. Alex Khasnabish  (Department of Sociology and Anthropology\, Mount Saint Vincent University) \nDr. Isaac Saney (Director\, Transition Year Program and Historian\, Dalhousie University) \nModerator: Dr. Theresa Rajack-Talley (Vice-Provost Equity and Inclusion\, Dalhousie University)
URL:https://nsadvocate.org/event/panel-to-examine-impacts-of-trumpism-and-u-s-capitol-riots-on-the-future-of-politics-dalhousie-university/
END:VEVENT
END:VCALENDAR