BEGIN:VCALENDAR
VERSION:2.0
PRODID:-//Nova Scotia Advocate - ECPv6.9.0//NONSGML v1.0//EN
CALSCALE:GREGORIAN
METHOD:PUBLISH
X-ORIGINAL-URL:https://nsadvocate.org
X-WR-CALDESC:Events for Nova Scotia Advocate
REFRESH-INTERVAL;VALUE=DURATION:PT1H
X-Robots-Tag:noindex
X-PUBLISHED-TTL:PT1H
BEGIN:VTIMEZONE
TZID:America/Glace_Bay
BEGIN:DAYLIGHT
TZOFFSETFROM:-0400
TZOFFSETTO:-0300
TZNAME:ADT
DTSTART:20210314T060000
END:DAYLIGHT
BEGIN:STANDARD
TZOFFSETFROM:-0300
TZOFFSETTO:-0400
TZNAME:AST
DTSTART:20211107T050000
END:STANDARD
END:VTIMEZONE
BEGIN:VEVENT
DTSTART;TZID=America/Glace_Bay:20210122T120000
DTEND;TZID=America/Glace_Bay:20210122T130000
DTSTAMP:20260423T005532
CREATED:20210119T165712Z
LAST-MODIFIED:20210120T131242Z
UID:18836-1611316800-1611320400@nsadvocate.org
SUMMARY:Re-viewing a 1960s Mi'kmaq Ribbon Skirt: Reclamation\, Resilience\, Resistance
DESCRIPTION:We are very pleased to invite you to the first Feminist Seminar Series of 2021.  \n\n\n\nRe-viewing a 1960s Mi’kmaq Ribbon Skirt: Reclamation\, Resilience\, Resistance \n\n\n\nDr. Lisa Binkley\, Dalhousie (Department of History) \n\n\n\nFriday\, 22 January 202112-1pm \n\n\n\nThis event will be captioned. All are welcome. Please find attached a high-contrast PDF of the poster.  \n\n\n\nRegister at: https://www.eventbrite.ca/e/reviewing-a-1960s-mikmaq-ribbon-skirt-reclamation-resilience-resistance-tickets-129384838535
URL:https://nsadvocate.org/event/re-viewing-a-1960s-mikmaq-ribbon-skirt-reclamation-resilience-resistance/
END:VEVENT
END:VCALENDAR