BEGIN:VCALENDAR
VERSION:2.0
PRODID:-//Nova Scotia Advocate - ECPv6.9.0//NONSGML v1.0//EN
CALSCALE:GREGORIAN
METHOD:PUBLISH
X-ORIGINAL-URL:https://nsadvocate.org
X-WR-CALDESC:Events for Nova Scotia Advocate
REFRESH-INTERVAL;VALUE=DURATION:PT1H
X-Robots-Tag:noindex
X-PUBLISHED-TTL:PT1H
BEGIN:VTIMEZONE
TZID:America/Glace_Bay
BEGIN:DAYLIGHT
TZOFFSETFROM:-0400
TZOFFSETTO:-0300
TZNAME:ADT
DTSTART:20210314T060000
END:DAYLIGHT
BEGIN:STANDARD
TZOFFSETFROM:-0300
TZOFFSETTO:-0400
TZNAME:AST
DTSTART:20211107T050000
END:STANDARD
END:VTIMEZONE
BEGIN:VEVENT
DTSTART;TZID=America/Glace_Bay:20210126T000000
DTEND;TZID=America/Glace_Bay:20210126T130000
DTSTAMP:20260422T212038
CREATED:20210125T130631Z
LAST-MODIFIED:20210125T130632Z
UID:18954-1611619200-1611666000@nsadvocate.org
SUMMARY:Forest Protectors in Court - Support outside
DESCRIPTION:Facebook event: https://www.facebook.com/events/425005202159057 \n\n\n\nK’JIPUKTUK/HALIFAX: \n\n\n\nConservation groups and concerned citizens will appear before the Nova Scotia Supreme Court on Tuesday Jan 26 to defend their right to peacefully protect endangered Mainland moose habitat in Nova Scotia. \n\n\n\n**COME SHOW SUPPORT BY PEACEFULLY GATHERING OUTSIDE THE COURTHOUSE (masked and in socially distanced Covid -safe groups of no more than 10) FROM NOON to 1PM ON TUESDAY \n\n\n\nFor eight weeks this fall\, citizens blocked logging roads on Crown land in Digby County in order to halt the clearcutting of Mainland moose habitat. In December\, WestFor\, a consortium of 13 sawmills\, obtained a temporary injunction and nine people were arrested for refusing to obey that injunction. \n\n\n\nThis Tuesday\, January 26th\, the Nova Scotia Supreme Court will hear WestFor’s application to keep their injunction in place. The injunction bars anyone from blocking any logging roads anywhere WestFor has been licensed to harvest on crown land. It also bars anyone from encouraging anyone who might encourage anyone to blockade any of these roads. \n\n\n\nThis injunction represents an extraordinary overreach on the part of a consortium of 13 mills. \n\n\n\nEcojustice will oppose the application. Jamie Simpson of Juniper Law is also working on the case. \n\n\n\nWhile this case is about the injunction obtained by WestFor vs XRNS Association\, Forest Protectors want everyone to understand that they ended up camping out on remote logging roads because of the Provincial Government’s failure to do its job. \n\n\n\nIt is the government that should be in court — again — for neglecting its legal duties to protect Species at Risk. \n\n\n\nThere are under 500 Mainland moose left in all of Nova Scotia. Instead of identifying and protecting their core habitat\, this government licenses its destruction. When government breaks its promises and ignores the urgent concerns of numerous citizens\, citizens have little choice but to engage in peaceful civil disobedience. \n\n\n\nDue to COVID restrictions and safety\, the Supreme Court no longer allows spectators in the court room. This is unfortunate because of the resulting lack of visible support during a difficult time. \n\n\n\nPlease wear masks even while outside\, to show you are taking covid precautions\, because we want everyone to be safe and so that no one is threatened with covid by-law tickets. (Stay in groups of under 10 people\, spatially distanced) \n\n\n\nJACOB FILLMORE will be there with Endangered Mainland Moose POSTCARDS for you to sign\, that will be mailed to DLF Minister Derek Mombourquette. \n\n\n\nPlease always remember that Kjipuktuk (aka Halifax) is the \n\n\n\nUNCEDED TERRITORY OF THE MI’KMAQ PEOPLE – Settlers signed Peace and Friendship Treaties that we must be sure to understand and respect.
URL:https://nsadvocate.org/event/forest-protectors-in-court-support-outside/
END:VEVENT
END:VCALENDAR