BEGIN:VCALENDAR
VERSION:2.0
PRODID:-//Nova Scotia Advocate - ECPv6.9.0//NONSGML v1.0//EN
CALSCALE:GREGORIAN
METHOD:PUBLISH
X-WR-CALNAME:Nova Scotia Advocate
X-ORIGINAL-URL:https://nsadvocate.org
X-WR-CALDESC:Events for Nova Scotia Advocate
REFRESH-INTERVAL;VALUE=DURATION:PT1H
X-Robots-Tag:noindex
X-PUBLISHED-TTL:PT1H
BEGIN:VTIMEZONE
TZID:America/Glace_Bay
BEGIN:DAYLIGHT
TZOFFSETFROM:-0400
TZOFFSETTO:-0300
TZNAME:ADT
DTSTART:20210314T060000
END:DAYLIGHT
BEGIN:STANDARD
TZOFFSETFROM:-0300
TZOFFSETTO:-0400
TZNAME:AST
DTSTART:20211107T050000
END:STANDARD
END:VTIMEZONE
BEGIN:VEVENT
DTSTART;TZID=America/Glace_Bay:20210127T103000
DTEND;TZID=America/Glace_Bay:20210127T113000
DTSTAMP:20260422T211920
CREATED:20210122T162138Z
LAST-MODIFIED:20210122T162322Z
UID:18888-1611743400-1611747000@nsadvocate.org
SUMMARY:Lois Miller Tulip Award Virtual Ceremony
DESCRIPTION:Join us via Zoom or Facebook Live on Wednesday\, January 27\, 2021 at 10:30 a.m. as we present our Lois Miller Tulip Award recipient\, Kendall Worth\, with a framed certificate recognizing him for exemplifying the spirit of independent living and enabling people living with disabilities to have control and informed choice over their lives.  \n\n\n\nTo join us on Zoom\, please click on the following link: https://us02web.zoom.us/j/81504111346. \n\n\n\nTo attend on Facebook Live\, please click on the following link: https://www.facebook.com/ILNS2016/live. \n\n\n\nIf you have questions or if you require disability-related accommodations for the ceremony please contact us at 902-453-0004 or at ilnsadmin@ilns.ca.
URL:https://nsadvocate.org/event/lois-miller-tulip-award-virtual-ceremony/
END:VEVENT
BEGIN:VEVENT
DTSTART;TZID=America/Glace_Bay:20210127T123000
DTEND;TZID=America/Glace_Bay:20210127T133000
DTSTAMP:20260422T211920
CREATED:20210123T172118Z
LAST-MODIFIED:20210123T172201Z
UID:18909-1611750600-1611754200@nsadvocate.org
SUMMARY:Safe spaces for white questions
DESCRIPTION:The event will be moderated by Alex Khasnabish (Mount Saint Vincent University) and Ajay Parasram (Dalhousie University). This event will be live-streamed via Fernwood Publishing’s YouTube channel:https://youtu.be/UBniai0u1I4 \n\n\n\nCan’t make it but still have questions you’d like answered? Please leave your questions here: https://forms.gle/6VuZzWrWkumauBma9
URL:https://nsadvocate.org/event/safe-spaces-for-white-questions/
END:VEVENT
BEGIN:VEVENT
DTSTART;TZID=America/Glace_Bay:20210127T150000
DTEND;TZID=America/Glace_Bay:20210127T170000
DTSTAMP:20260422T211920
CREATED:20210119T194439Z
LAST-MODIFIED:20210119T194440Z
UID:18839-1611759600-1611766800@nsadvocate.org
SUMMARY:VIOLA DESMOND LEGACY LECTURE WITH MICHÈLE AUDETTE
DESCRIPTION:Join us at the virtual Viola Desmond Legacy Lecture featuring Indigenous rights advocate\, Michèle Audette. Making outstanding contributions to Indigenous women’s rights in Canada\, including serving as Commissioner for the National Inquiry into Missing and Murdered Indigenous Women and Girls\, she continues to advocate for change in provincial and federal policies to address discrimination\, violence against Indigenous women\, and social inequalities.​ \n\n\n\nBookmark the following link to watch the event live on YouTube: https://youtu.be/Y0tFGBS3HvY \n\n\n\nCategory\n\n\n\nSpecial Events \n\n\n\nTime\n\n\n\nStarts: Wednesday January 27\, 2021 – 03:00 PMEnds: Wednesday January 27\, 2021 – 05:00 PM
URL:https://nsadvocate.org/event/viola-desmond-legacy-lecture-with-michele-audette/
END:VEVENT
BEGIN:VEVENT
DTSTART;TZID=America/Glace_Bay:20210127T180000
DTEND;TZID=America/Glace_Bay:20210127T193000
DTSTAMP:20260422T211920
CREATED:20210120T130946Z
LAST-MODIFIED:20210120T131008Z
UID:18849-1611770400-1611775800@nsadvocate.org
SUMMARY:Recognizing the Rights of Nature in Nova Scotia: A Q&A with CELDF
DESCRIPTION:Facebook event: https://www.facebook.com/events/857336021477759/ \n\n\n\nJoin us for a Q&A with Community Environmental Legal Defense Fund organizers. CELDF has helped dozens of communities in the US and around the world in recognizing the Rights of Nature and asserting their right to local self-government. \n\n\n\nHow can we do this here in Nova Scotia? Can we join the Rights of Nature movement and build the local power necessary to stop the corporate assault on our forests and watersheds? What are the barriers stopping our local communities from protecting our ecosystems and saying no to clear cuts and aerial herbicide spraying? We’ll continue our conversation on the rights of nature and try to answer some of these big questions among others. \n\n\n\nWe’ll also look into a local case study from Inverness County that passed a bylaw banning fracking within it’s jurisdiction to see what we can learn to help our communities stop the spraying and cuts at the local level. Check out the discussion section to have a look at the case study and bylaw. \n\n\n\nFor more info on CELDF and some recommended reading prior to the Q&A check out the discussion section. Also let us know if there are any related topics or questions and we’ll try our best to include them. \n\n\n\n***Please RSVP for the Zoom link at colin.rotsaert@gmail.com \n\n\n\nJoining us for the Q&A: \n\n\n\nTish O’Dell is the Ohio Community Organizer for CELDF assisting Ohio communities since 2013 to organize rights-based initiatives in their communities\, including the Lake Erie Bill of Rights. Tish also co-founded the grass-roots organization in Broadview Heights\, OH\, that successfully campaigned to adopt a Home Rule Charter amendment creating a Community Bill of Rights banning shale gas drilling and fracking. \n\n\n\nBen Price is the National Organizing Director for CELDF. Before moving into the national director position\, he led work across Pennsylvania\, where over 100 communities have enacted CELDF-drafted laws. Ben is a Democracy School lecturer. \n\n\n\nTerry Lodge has nearly 50 years’ experience as an activist\, civil and environmental rights litigator. Terry has filled much of his past six years with CELDF filing countless briefs in support of direct democracy\, Community Rights\, and the Rights of Nature in Ohio.
URL:https://nsadvocate.org/event/recognizing-the-rights-of-nature-in-nova-scotia-a-qa-with-celdf/
END:VEVENT
BEGIN:VEVENT
DTSTART;TZID=America/Glace_Bay:20210127T190000
DTEND;TZID=America/Glace_Bay:20210127T210000
DTSTAMP:20260422T211920
CREATED:20210119T132512Z
LAST-MODIFIED:20210120T131158Z
UID:18820-1611774000-1611781200@nsadvocate.org
SUMMARY:WELLNESS WITHIN PRESENTS: BELLY OF THE BEAST FILM SCREENING AND PANEL DISCUSSION.
DESCRIPTION:JOIN US!\nWe are screening Belly of the Beast\, an exposé of human rights abuses in women’s prisons\, highlighting modern-day eugenics and reproductive injustice\, virtually. Free! \n\n\nREGISTER HERE. On January 22\, the links will be emailed to you. \n\n\nWatch the film at your convenience between January 23rd and 27th. \n\n\nJoin the virtual discussion panel discussion on January 27th at 7 pm. \n\n\nABOUT THE PANEL\nOn January 27th\, 2021 at 7 pm join Alisa Lombard and Emilie Coyle for a panel discussion of the film. \n\n\n\n\n\n\n\n\n\n\n\n \n \n\n\n\n\n\n\n\n\n\nEmilie Coyle is the Executive Director of the Canadian Association of Elizabeth Fry Societies. She previously worked as Director of the Refugee Sponsorship Support Program at the University of Ottawa\, Emilie has practiced family\, criminal and immigration law. In addition to her professional accomplishments as a bilingual legal professional and not-for-profit advocate\, Emilie is a co-founder of Parents 4 Diversity\, a citizen’s group working with parents and teachers to address discrimination with the goal of making schools safer for all children and youth. \n\n\n\n\n\n\n\n\n\n\n\n\n\n \n \n\n\n\n\n\n\n\n\n\nAlisa Lombard is a fluently multi-lingual and bi-jural lawyer with experience in complex legal and policy issues relating to Indigenous-Crown relations and reconciliation in national and international fora. Alisa has been involved in and acted for many First Nations in a variety of complex specific claims. Alisa is lead counsel on a proposed class action pertaining to the forced sterilization of Indigenous women in Saskatchewan. For her advocacy in this matter\, she was recognized in “Chatelaine’s Women of the Year 2018”. \n\n\n\n\n\n\nABOUT BELLY OF THE BEAST\nWhen an unlikely duo discovers a pattern of illegal sterilization in women’s prisons\, they wage a near-impossible battle against the Department of Corrections. Filmed over seven years with extraordinary access and intimate accounts from current and formerly incarcerated people\, Belly of the Beast exposes modern-day eugenics and reproductive injustice in California prisons. \nwww.bellyofthebeastfilm.com
URL:https://nsadvocate.org/event/wellness-within-presents-belly-of-the-beast-film-screening-and-panel-discussion/
END:VEVENT
END:VCALENDAR