BEGIN:VCALENDAR
VERSION:2.0
PRODID:-//Nova Scotia Advocate - ECPv6.9.0//NONSGML v1.0//EN
CALSCALE:GREGORIAN
METHOD:PUBLISH
X-WR-CALNAME:Nova Scotia Advocate
X-ORIGINAL-URL:https://nsadvocate.org
X-WR-CALDESC:Events for Nova Scotia Advocate
REFRESH-INTERVAL;VALUE=DURATION:PT1H
X-Robots-Tag:noindex
X-PUBLISHED-TTL:PT1H
BEGIN:VTIMEZONE
TZID:America/Glace_Bay
BEGIN:DAYLIGHT
TZOFFSETFROM:-0400
TZOFFSETTO:-0300
TZNAME:ADT
DTSTART:20210314T060000
END:DAYLIGHT
BEGIN:STANDARD
TZOFFSETFROM:-0300
TZOFFSETTO:-0400
TZNAME:AST
DTSTART:20211107T050000
END:STANDARD
END:VTIMEZONE
BEGIN:VEVENT
DTSTART;TZID=America/Glace_Bay:20210128T123000
DTEND;TZID=America/Glace_Bay:20210128T150000
DTSTAMP:20260422T224016
CREATED:20210119T003927Z
LAST-MODIFIED:20210120T131138Z
UID:18815-1611837000-1611846000@nsadvocate.org
SUMMARY:Halifax board of police commissioners
DESCRIPTION:Budget meeting! \nhttps://www.halifax.ca/city-hall/agendas-meetings-reports \n 
URL:https://nsadvocate.org/event/halifax-board-of-police-commissioners/
END:VEVENT
BEGIN:VEVENT
DTSTART;TZID=America/Glace_Bay:20210128T180000
DTEND;TZID=America/Glace_Bay:20210128T200000
DTSTAMP:20260422T224016
CREATED:20210123T171657Z
LAST-MODIFIED:20210123T171701Z
UID:18906-1611856800-1611864000@nsadvocate.org
SUMMARY:Join Pam Palmater\, Doreen Manuel\, Kanahus Manuel\, and Peter McFarlane for the launch of the books Brotherhood to Nationhood and Warrior Life
DESCRIPTION:Register on Eventbrite
URL:https://nsadvocate.org/event/join-pam-palmater-doreen-manuel-kanahus-manuel-and-peter-mcfarlane-for-the-launch-of-the-books-brotherhood-to-nationhood-and-warrior-life/
END:VEVENT
END:VCALENDAR