BEGIN:VCALENDAR
VERSION:2.0
PRODID:-//Nova Scotia Advocate - ECPv6.9.0//NONSGML v1.0//EN
CALSCALE:GREGORIAN
METHOD:PUBLISH
X-ORIGINAL-URL:https://nsadvocate.org
X-WR-CALDESC:Events for Nova Scotia Advocate
REFRESH-INTERVAL;VALUE=DURATION:PT1H
X-Robots-Tag:noindex
X-PUBLISHED-TTL:PT1H
BEGIN:VTIMEZONE
TZID:America/Glace_Bay
BEGIN:DAYLIGHT
TZOFFSETFROM:-0400
TZOFFSETTO:-0300
TZNAME:ADT
DTSTART:20210314T060000
END:DAYLIGHT
BEGIN:STANDARD
TZOFFSETFROM:-0300
TZOFFSETTO:-0400
TZNAME:AST
DTSTART:20211107T050000
END:STANDARD
END:VTIMEZONE
BEGIN:VEVENT
DTSTART;TZID=America/Glace_Bay:20210205T170000
DTEND;TZID=America/Glace_Bay:20210205T183000
DTSTAMP:20260422T191159
CREATED:20210204T135430Z
LAST-MODIFIED:20210204T135431Z
UID:19145-1612544400-1612549800@nsadvocate.org
SUMMARY:Let’s Talk: Uncovering Black Art History in Canada
DESCRIPTION:Facebook event: https://www.facebook.com/events/2973020582984406/ \n\n\n\nRegister now to uncover historical and contemporary forms of Black Art across Canada with Dr. Charmaine Nelson\, art history professor at McGill University. \n\n\n\nPresented as part of #BlackHistoryMonth and #EDIWeek—Dr. Charmaine Nelson is a prominent Professor of Art History. Receiving her PhD in Art History from the University of Manchester\, UK in 2001\, she has taught at McGill since 2003. Her research and teaching interests include postcolonial and black feminist scholarship\, Transatlantic Slavery Studies\, and Black Diaspora Studies. Her scholarship examines Canadian\, American\, European and Caribbean art and visual culture. During this event\, Dr. Nelson will be uncovering the historical and contemporary forms of Black Art across Canada.
URL:https://nsadvocate.org/event/lets-talk-uncovering-black-art-history-in-canada/
END:VEVENT
END:VCALENDAR