BEGIN:VCALENDAR
VERSION:2.0
PRODID:-//Nova Scotia Advocate - ECPv6.9.0//NONSGML v1.0//EN
CALSCALE:GREGORIAN
METHOD:PUBLISH
X-WR-CALNAME:Nova Scotia Advocate
X-ORIGINAL-URL:https://nsadvocate.org
X-WR-CALDESC:Events for Nova Scotia Advocate
REFRESH-INTERVAL;VALUE=DURATION:PT1H
X-Robots-Tag:noindex
X-PUBLISHED-TTL:PT1H
BEGIN:VTIMEZONE
TZID:America/Glace_Bay
BEGIN:DAYLIGHT
TZOFFSETFROM:-0400
TZOFFSETTO:-0300
TZNAME:ADT
DTSTART:20210314T060000
END:DAYLIGHT
BEGIN:STANDARD
TZOFFSETFROM:-0300
TZOFFSETTO:-0400
TZNAME:AST
DTSTART:20211107T050000
END:STANDARD
END:VTIMEZONE
BEGIN:VEVENT
DTSTART;TZID=America/Glace_Bay:20210211T173000
DTEND;TZID=America/Glace_Bay:20210211T200000
DTSTAMP:20260422T141547
CREATED:20210129T142411Z
LAST-MODIFIED:20210129T142413Z
UID:19017-1613064600-1613073600@nsadvocate.org
SUMMARY:Panel discussion on: Fitting African Centered Perspectives into Social Work Practice
DESCRIPTION:EVERYONE IS WELCOME. REGISTER ON EVENTBRITE TO ATTEND \n\n\nRegister on Eventbrite
URL:https://nsadvocate.org/event/panel-discussion-on-fitting-african-centered-perspectives-into-social-work-practice/
END:VEVENT
BEGIN:VEVENT
DTSTART;TZID=America/Glace_Bay:20210211T190000
DTEND;TZID=America/Glace_Bay:20210211T203000
DTSTAMP:20260422T141547
CREATED:20210208T185723Z
LAST-MODIFIED:20210208T185725Z
UID:19205-1613070000-1613075400@nsadvocate.org
SUMMARY:Atlantic Canada Book Launch for N’in D’la Owey Innklan: Mi’kmaq Sojourns in England
DESCRIPTION:Atlantic Canada Book Launch for N’in D’la Owey Innklan: Mi’kmaq Sojourns in England  \n\n\n\nNovel by Professor Bonita Lawrence explores five centuries of interconnections between Mi’kmaq people and London \n\n\n\nMonday\, February 8 (Halifax\, NS) –  The Atlantic Canada book launch for Dr. Bonita Lawrence’s new novel N’in D’la Owey Innklan: Mi’kmaq Sojourns in England will be hosted by Dalhousie University Libraries and will take place virtually on Thursday\, February 11 at 7 p.m. (AST). At the launch\, Dr. Lawrence will be joined by guests Marie Battiste\, Hannah Beaulieu\, Sean Hillier\, and Cathy Martin. \n\n\n\nN’in D’la Owey Innklan: Mi’kmaq Sojourns in England is an historical novel beginning in 1497 that takes the reader on a series of vignettes through five centuries of interconnections between Mi’kmaq people and London. Each character begins their story in different regions of the Mi’kmaq world\, and they end up in London for various reasons—ranging from being kidnapped or enslaved in early years of contact\, to being impressed into the British Navy or to attend university. The novel encompasses descriptive scenes of London in different eras\, alternately addressing the eroticism of lovers\, the wide-ranging lives of whalers and sailors\, the horrors of nursing during World War I and the overwrought world of heroin users in late 1970s East London\, interspersed with occasional short pages of intellectual commentary. Ultimately\, it is a labour of love for homelands lost. (Taken from austinmacauley.com) \n\n\n\nDr. Lawrence is a professor in the Department of Humanities at York University and is a founding member of the Indigenous Studies program. She is of Mi’kmaq\, Acadian\, and English ancestry. In addition to this novel\, she has authored two academic books\, Fractured Homeland: Federal Recognition and Algonquin Identity in Ontario and “Real” Indians and Others: Mixed-Race Urban Native People and Indigenous Nationhood. With Kim Anderson\, she co-authored a collection of essays entitled Strong Women Stories: Native Vision and Community Survival. 
URL:https://nsadvocate.org/event/atlantic-canada-book-launch-for-nin-dla-owey-innklan-mikmaq-sojourns-in-england/
END:VEVENT
END:VCALENDAR