BEGIN:VCALENDAR
VERSION:2.0
PRODID:-//Nova Scotia Advocate - ECPv6.9.0//NONSGML v1.0//EN
CALSCALE:GREGORIAN
METHOD:PUBLISH
X-WR-CALNAME:Nova Scotia Advocate
X-ORIGINAL-URL:https://nsadvocate.org
X-WR-CALDESC:Events for Nova Scotia Advocate
REFRESH-INTERVAL;VALUE=DURATION:PT1H
X-Robots-Tag:noindex
X-PUBLISHED-TTL:PT1H
BEGIN:VTIMEZONE
TZID:America/Glace_Bay
BEGIN:DAYLIGHT
TZOFFSETFROM:-0400
TZOFFSETTO:-0300
TZNAME:ADT
DTSTART:20210314T060000
END:DAYLIGHT
BEGIN:STANDARD
TZOFFSETFROM:-0300
TZOFFSETTO:-0400
TZNAME:AST
DTSTART:20211107T050000
END:STANDARD
END:VTIMEZONE
BEGIN:VEVENT
DTSTART;TZID=America/Glace_Bay:20210214T140000
DTEND;TZID=America/Glace_Bay:20210214T160000
DTSTAMP:20260422T205437
CREATED:20210210T132603Z
LAST-MODIFIED:20210210T132605Z
UID:19255-1613311200-1613318400@nsadvocate.org
SUMMARY:Kjipuktuk March for MMIR
DESCRIPTION:Check the Facebook event: https://www.facebook.com/events/997042770834730/ \n\n\n\n** start & end locations will be updated closer to event date** \n\n\n\nHonouring & remembering the Indigenous women\, girls\, Two-Spirit & other Indigenous relations that have been taken from us in an ongoing genocide. \n\n\n\nWe will meet\, march\, have an opening ceremony\, & then hang red dresses\, red ties\, or red fabric to commemorate those in the spirit world. Please do your best to social distance\, and wear a mask. \n\n\n\nAs the dresses MUST come up and down in ceremony– we will be having a smaller ceremony on the 28th- there will not be an event page for this\, but chat with the organizers if you’d like to attend. \n\n\n\nPlease note we are using MMIR (relations) instead of MMIW (women) to consider those in our communities who live beyond the confines of the gender binary.
URL:https://nsadvocate.org/event/kjipuktuk-march-for-mmir/
END:VEVENT
END:VCALENDAR