BEGIN:VCALENDAR
VERSION:2.0
PRODID:-//Nova Scotia Advocate - ECPv6.9.0//NONSGML v1.0//EN
CALSCALE:GREGORIAN
METHOD:PUBLISH
X-WR-CALNAME:Nova Scotia Advocate
X-ORIGINAL-URL:https://nsadvocate.org
X-WR-CALDESC:Events for Nova Scotia Advocate
REFRESH-INTERVAL;VALUE=DURATION:PT1H
X-Robots-Tag:noindex
X-PUBLISHED-TTL:PT1H
BEGIN:VTIMEZONE
TZID:America/Glace_Bay
BEGIN:DAYLIGHT
TZOFFSETFROM:-0400
TZOFFSETTO:-0300
TZNAME:ADT
DTSTART:20210314T060000
END:DAYLIGHT
BEGIN:STANDARD
TZOFFSETFROM:-0300
TZOFFSETTO:-0400
TZNAME:AST
DTSTART:20211107T050000
END:STANDARD
END:VTIMEZONE
BEGIN:VEVENT
DTSTART;TZID=America/Glace_Bay:20210217T150000
DTEND;TZID=America/Glace_Bay:20210217T160000
DTSTAMP:20260422T190910
CREATED:20210215T141327Z
LAST-MODIFIED:20210215T141328Z
UID:19343-1613574000-1613577600@nsadvocate.org
SUMMARY:ACORN Leaders Protesting Money Mart to Demand Government Regulate Predatory Lenders
DESCRIPTION:LOCAL ACTION  \n\n\n\nWhat: ACORN Leaders Protesting Money Mart to Demand Government Regulate Predatory Lenders  \n\n\n\nWhen: Wednesday February 17th at 3pm  \n\n\n\nWhere: 172 Wyse Rd #0112\, Dartmouth\, NS  \n\n\n\nMore: Press release: ACORN Canada study finds a surge in the usage of installment loans\, and growth in high-interest online loans
URL:https://nsadvocate.org/event/acorn-leaders-protesting-money-mart-to-demand-government-regulate-predatory-lenders/
END:VEVENT
END:VCALENDAR