BEGIN:VCALENDAR
VERSION:2.0
PRODID:-//Nova Scotia Advocate - ECPv6.9.0//NONSGML v1.0//EN
CALSCALE:GREGORIAN
METHOD:PUBLISH
X-ORIGINAL-URL:https://nsadvocate.org
X-WR-CALDESC:Events for Nova Scotia Advocate
REFRESH-INTERVAL;VALUE=DURATION:PT1H
X-Robots-Tag:noindex
X-PUBLISHED-TTL:PT1H
BEGIN:VTIMEZONE
TZID:America/Glace_Bay
BEGIN:DAYLIGHT
TZOFFSETFROM:-0400
TZOFFSETTO:-0300
TZNAME:ADT
DTSTART:20210314T060000
END:DAYLIGHT
BEGIN:STANDARD
TZOFFSETFROM:-0300
TZOFFSETTO:-0400
TZNAME:AST
DTSTART:20211107T050000
END:STANDARD
END:VTIMEZONE
BEGIN:VEVENT
DTSTART;TZID=America/Glace_Bay:20210218T130000
DTEND;TZID=America/Glace_Bay:20210218T140000
DTSTAMP:20260422T173301
CREATED:20210213T162516Z
LAST-MODIFIED:20210213T162659Z
UID:19309-1613653200-1613656800@nsadvocate.org
SUMMARY:Falling Through the Cracks: Long-Term Care and COVID-19
DESCRIPTION:Facebook event: https://www.facebook.com/events/342208610362714 \n\n\n\nThis event is presented by the MacEachen Institute and the Faculty of Medicine at Dalhousie University. \n\n\n\nCOVID-19 has overwhelmed long-term care (LTC) facilities across the country\, leaving Canadian’s shocked by the devastation. LTC facilities account for nearly 11% of COVID-19 cases in Canada and over 70% of total deaths. While the largest proportion of cases in Canada are among those 20-29\, nearly 97% of deaths have been among Canadians over the age of 60. \n\n\n\nThe COVID-19 pandemic has exposed long-standing deficiencies and challenges in the delivery of long-term care in Canada. Many stakeholders are calling for national standards\, but there are questions about the best approach. Should we amend the Canada Health Act to include LTC or develop new legislation? Long standing staffing challenges will also need to be addressed\, such as equitable and permanent pay and benefits for care aides\, mental health supports for all staff; and improved and required data collection. A coordinated approach between Federal and Provincial/Territorial Governments will be necessary. \n\n\n\nTo register\, follow this link: https://us02web.zoom.us/…/reg…/WN_1rFzmgKJQuqMqz2PkoQGfQ \n\n\n\nFor more information on the event\, please visit: https://www.dal.ca/…/events/Longterm-care-panel.html
URL:https://nsadvocate.org/event/falling-through-the-cracks-long-term-care-and-covid-19/
END:VEVENT
BEGIN:VEVENT
DTSTART;TZID=America/Glace_Bay:20210218T190000
DTEND;TZID=America/Glace_Bay:20210218T203000
DTSTAMP:20260422T173301
CREATED:20210213T162955Z
LAST-MODIFIED:20210213T162956Z
UID:19312-1613674800-1613680200@nsadvocate.org
SUMMARY:ACORN Tenants Rights Info Session
DESCRIPTION:FAcebook event: https://www.facebook.com/events/126278389371341 \n\n\n\n\n\n\n\nJoin us Thursday\, February 18th at 7pm for a tenants rights info session!We’re covering the 2% rent cap\, what it means for renters\, and how to get your money back if you’ve overpaid!Please register at this link in advance so we can get a sense of how many people are coming: http://bit.ly/2Z7BlyxAnd sign here to make this rent cap permanent! https://acorncanada.org/…/no-band-aid-solutions-we-need…Questions? Email halifax@acorncanada.org
URL:https://nsadvocate.org/event/acorn-tenants-rights-info-session/
END:VEVENT
END:VCALENDAR