BEGIN:VCALENDAR
VERSION:2.0
PRODID:-//Nova Scotia Advocate - ECPv6.9.0//NONSGML v1.0//EN
CALSCALE:GREGORIAN
METHOD:PUBLISH
X-ORIGINAL-URL:https://nsadvocate.org
X-WR-CALDESC:Events for Nova Scotia Advocate
REFRESH-INTERVAL;VALUE=DURATION:PT1H
X-Robots-Tag:noindex
X-PUBLISHED-TTL:PT1H
BEGIN:VTIMEZONE
TZID:America/Glace_Bay
BEGIN:DAYLIGHT
TZOFFSETFROM:-0400
TZOFFSETTO:-0300
TZNAME:ADT
DTSTART:20210314T060000
END:DAYLIGHT
BEGIN:STANDARD
TZOFFSETFROM:-0300
TZOFFSETTO:-0400
TZNAME:AST
DTSTART:20211107T050000
END:STANDARD
END:VTIMEZONE
BEGIN:VEVENT
DTSTART;TZID=America/Glace_Bay:20210226T183000
DTEND;TZID=America/Glace_Bay:20210226T193000
DTSTAMP:20260422T224243
CREATED:20210225T134243Z
LAST-MODIFIED:20210225T134319Z
UID:19562-1614364200-1614367800@nsadvocate.org
SUMMARY:Book launch: Academic Well-Being of Racialized Students
DESCRIPTION:On February 26th\, join Editor of Academic Well-Being of Racialized Students\, Dr. Benita Bunjun\, along with contributors from the book for a pre-book launch celebration.  \n\n\n\nRegister via Eventbrite.
URL:https://nsadvocate.org/event/book-launch-academic-well-being-of-racialized-students/
END:VEVENT
END:VCALENDAR