BEGIN:VCALENDAR
VERSION:2.0
PRODID:-//Nova Scotia Advocate - ECPv6.9.0//NONSGML v1.0//EN
CALSCALE:GREGORIAN
METHOD:PUBLISH
X-ORIGINAL-URL:https://nsadvocate.org
X-WR-CALDESC:Events for Nova Scotia Advocate
REFRESH-INTERVAL;VALUE=DURATION:PT1H
X-Robots-Tag:noindex
X-PUBLISHED-TTL:PT1H
BEGIN:VTIMEZONE
TZID:America/Glace_Bay
BEGIN:DAYLIGHT
TZOFFSETFROM:-0400
TZOFFSETTO:-0300
TZNAME:ADT
DTSTART:20210314T060000
END:DAYLIGHT
BEGIN:STANDARD
TZOFFSETFROM:-0300
TZOFFSETTO:-0400
TZNAME:AST
DTSTART:20211107T050000
END:STANDARD
END:VTIMEZONE
BEGIN:VEVENT
DTSTART;TZID=America/Glace_Bay:20210301T150000
DTEND;TZID=America/Glace_Bay:20210301T160000
DTSTAMP:20260422T173358
CREATED:20210220T194308Z
LAST-MODIFIED:20210220T211206Z
UID:19486-1614610800-1614614400@nsadvocate.org
SUMMARY:Disability Day of Mourning 2021 - Virtual Vigil - March 1\, 2021
DESCRIPTION:On March 1st\, 2021\, Autistics United Canada will be holding a virtual vigil for the ninth annual Disability Day of Mourning. \n\n\n\nThe International Disability Day of Mourning commemorates people with disabilities murdered by family members and caregivers. We honour and celebrates the lives of our disabled ancestors who met unjust deaths at the hands of their caretakers. \n\n\n\nThe vigil will include several speeches from the disabled community\, a reading of victims’ names\, and a moment of silence. \n\n\n\n— \n\n\n\nDate: Monday\, March 1\, 2021 \n\n\n\nTime: 11 am Pacific Time / 12 pm Mountain Time / 1 pm Central Time / 2 pm Eastern Time / 3 pm Atlantic Time \n\n\n\nThe event will be held via videoconferencing with Zoom. You will receive an invitation link by email within 24 hours of the event. \n\n\n\nWe are looking into livestreaming options in case we receive more registrations than we can accommodate on Zoom. \n\n\n\n— \n\n\n\nAccessibility: \n\n\n\n1. We have confirmed CART (live captioning) for the event. \n\n\n\n2. We have two ASL interpreters confirmed for the event. \n\n\n\n3. We are looking into live stream options for the event. \n\n\n\n4. We are working on getting emotional support volunteers that can provide one-on-one support in the Zoom breakout rooms. \n\n\n\nPlease let us know your accessibility requests by February 24\, 2021\, so we can best accommodate you. \n\n\n\nIf you have any questions or accessibility requests\, feel free to let us know in this form\, email us at info@autisticsunitedca.org or message us on Facebook at https://www.facebook.com/AutisticsUnitedCA/! \n\n\n\n***Please RSVP by February 24\, 2021 thank you!*** \n\n\n\n—– \n\n\n\nTo learn more about Disability Day of Mourning: disability-memorial.org \n\n\n\n(Note: This website discusses graphic murders of disabled people) \n\n\n\nTo donate to support hosting this vigil and other activities by and for autistic people: autisticsunitedca.org/donate.html \n\n\n\n— \n\n\n\nVisit our Facebook event page for updates: https://www.facebook.com/events/235701151423535 \n\n\n\n*Required
URL:https://nsadvocate.org/event/disability-day-of-mourning-2021-virtual-vigil-march-1-2021/
END:VEVENT
END:VCALENDAR