BEGIN:VCALENDAR
VERSION:2.0
PRODID:-//Nova Scotia Advocate - ECPv6.9.0//NONSGML v1.0//EN
CALSCALE:GREGORIAN
METHOD:PUBLISH
X-ORIGINAL-URL:https://nsadvocate.org
X-WR-CALDESC:Events for Nova Scotia Advocate
REFRESH-INTERVAL;VALUE=DURATION:PT1H
X-Robots-Tag:noindex
X-PUBLISHED-TTL:PT1H
BEGIN:VTIMEZONE
TZID:America/Glace_Bay
BEGIN:DAYLIGHT
TZOFFSETFROM:-0400
TZOFFSETTO:-0300
TZNAME:ADT
DTSTART:20210314T060000
END:DAYLIGHT
BEGIN:STANDARD
TZOFFSETFROM:-0300
TZOFFSETTO:-0400
TZNAME:AST
DTSTART:20211107T050000
END:STANDARD
END:VTIMEZONE
BEGIN:VEVENT
DTSTART;TZID=America/Glace_Bay:20210305T120000
DTEND;TZID=America/Glace_Bay:20210305T130000
DTSTAMP:20260422T175501
CREATED:20210226T124956Z
LAST-MODIFIED:20210226T125025Z
UID:19600-1614945600-1614949200@nsadvocate.org
SUMMARY:Black Lives Matter and Environmental Racism: A Social Work Ethics Perspective
DESCRIPTION:A thought-provoking webinar with Senator Wanda Thomas-Bernard\, RSW\, PhD. The Pictou County Social Workers Group and the NSCSW invite our communities to join us for a free event to celebrate both Black Heritage Month in February and Social Work Month in March. \n\n\n\nRegister on Eventbrite https://www.eventbrite.ca/e/141338345797
URL:https://nsadvocate.org/event/black-lives-matter-and-environmental-racism-a-social-work-ethics-perspective/
END:VEVENT
BEGIN:VEVENT
DTSTART;TZID=America/Glace_Bay:20210305T120000
DTEND;TZID=America/Glace_Bay:20210305T123000
DTSTAMP:20260422T175501
CREATED:20210303T163944Z
LAST-MODIFIED:20210303T163945Z
UID:19679-1614945600-1614947400@nsadvocate.org
SUMMARY:Rally to Support Wynn Park Workers
DESCRIPTION:Facebook event: https://www.facebook.com/events/1841592222675857/ \n\n\n\nDefend Wynn Park Villa Worker Fired for Saying the Word ‘Union’Join CUPE NS and defenders of workers’ freedom of speech and right to organize!Please join us for an “in-car driving rally on the public road outside Wynn Park Villa on Windsor Way in Truro. Show your support for Tevin Crawford and Wynn Park Workers. Help to return Tevin to the job he loves!Watch the rally online\, to be live streamed at https://upload.facebook.com/CUPENovaScotia/timeline. \n\n\n\nThis event will follow all Nova Scotia COVID safety guidelines.Please read the following carefully:- We are asking that no one in a restricted area of the province attend this rally– Please review Nova Scotia’s COVID-19 related guidelines– No honking\, follow all road traffic laws– Please remain in your car and wear a mask if you exit your vehicle– Make a circular loop of Windsor Way\, right onto Winchester Place\, left onto Wellington Ct.\, left onto Lower Truro Road\, and again left onto Windsor Way– Make room and yield for all emergency vehicles– Follow instructions of rally stewards directing traffic and ensuring safety \n\n\n\nCome out and support Wynn Park Villa Workers’ Right to make a free choice about whether they want to join a union!
URL:https://nsadvocate.org/event/rally-to-support-wynn-park-workers/
END:VEVENT
BEGIN:VEVENT
DTSTART;TZID=America/Glace_Bay:20210305T160000
DTEND;TZID=America/Glace_Bay:20210305T170000
DTSTAMP:20260422T175501
CREATED:20210302T131539Z
LAST-MODIFIED:20210302T131737Z
UID:19645-1614960000-1614963600@nsadvocate.org
SUMMARY:Harm Reduction Workshop
DESCRIPTION:Facebook event: https://www.facebook.com/events/112308470788226/ \n\n\n\nHarm reduction aims to minimize the risks of substance consumption with respect to users and commitment to teachings of care and safe practices.Come learn about substance use safety and how to build communities of support that you can rely upon! \n\n\n\nMeeting link is https://meet.google.com/ixf-nhri-uzo(this link will also be posted in our instagram bio on Friday)
URL:https://nsadvocate.org/event/harm-reduction-workshop/
END:VEVENT
END:VCALENDAR