BEGIN:VCALENDAR
VERSION:2.0
PRODID:-//Nova Scotia Advocate - ECPv6.9.0//NONSGML v1.0//EN
CALSCALE:GREGORIAN
METHOD:PUBLISH
X-ORIGINAL-URL:https://nsadvocate.org
X-WR-CALDESC:Events for Nova Scotia Advocate
REFRESH-INTERVAL;VALUE=DURATION:PT1H
X-Robots-Tag:noindex
X-PUBLISHED-TTL:PT1H
BEGIN:VTIMEZONE
TZID:America/Glace_Bay
BEGIN:DAYLIGHT
TZOFFSETFROM:-0400
TZOFFSETTO:-0300
TZNAME:ADT
DTSTART:20210314T060000
END:DAYLIGHT
BEGIN:STANDARD
TZOFFSETFROM:-0300
TZOFFSETTO:-0400
TZNAME:AST
DTSTART:20211107T050000
END:STANDARD
END:VTIMEZONE
BEGIN:VEVENT
DTSTART;TZID=America/Glace_Bay:20210306T110000
DTEND;TZID=America/Glace_Bay:20210306T130000
DTSTAMP:20260422T121949
CREATED:20210226T125339Z
LAST-MODIFIED:20210226T125341Z
UID:19602-1615028400-1615035600@nsadvocate.org
SUMMARY:Nova Scotia for the People: ACORN Policy Forum
DESCRIPTION:Facebook event: https://www.facebook.com/events/191633726051367/ \n\n\n\nJoin ACORN and Allied groups from across Nova Scotia to discuss the changes we need to see from our new government!Questions? Want to have your organization involved? \n\n\n\nContact halifax@acorncanada.org
URL:https://nsadvocate.org/event/nova-scotia-for-the-people-acorn-policy-forum/
END:VEVENT
END:VCALENDAR