BEGIN:VCALENDAR
VERSION:2.0
PRODID:-//Nova Scotia Advocate - ECPv6.9.0//NONSGML v1.0//EN
CALSCALE:GREGORIAN
METHOD:PUBLISH
X-ORIGINAL-URL:https://nsadvocate.org
X-WR-CALDESC:Events for Nova Scotia Advocate
REFRESH-INTERVAL;VALUE=DURATION:PT1H
X-Robots-Tag:noindex
X-PUBLISHED-TTL:PT1H
BEGIN:VTIMEZONE
TZID:America/Glace_Bay
BEGIN:DAYLIGHT
TZOFFSETFROM:-0400
TZOFFSETTO:-0300
TZNAME:ADT
DTSTART:20210314T060000
END:DAYLIGHT
BEGIN:STANDARD
TZOFFSETFROM:-0300
TZOFFSETTO:-0400
TZNAME:AST
DTSTART:20211107T050000
END:STANDARD
END:VTIMEZONE
BEGIN:VEVENT
DTSTART;TZID=America/Glace_Bay:20210308T083000
DTEND;TZID=America/Glace_Bay:20210308T103000
DTSTAMP:20260422T173427
CREATED:20210226T125659Z
LAST-MODIFIED:20210226T125700Z
UID:19604-1615192200-1615199400@nsadvocate.org
SUMMARY:NSFL International Women's Day Virtual Event
DESCRIPTION:Facebook event: https://www.facebook.com/events/3843323782400709/ \n\n\n\n“Rise Up\, Resilient Women!” \n\n\n\nJoin our virtual event\, featuring guest speaker – author Karen Dean. \n\n\n\nWe will also be acknowledging this year’s NSFL Sister of the Year recipient.Our event is free\, but we ask that you consider making a donation to a women’s shelter in your community. \n\n\n\nSo\, grab a coffee\, log in\, and be a part of our 2021 International Women’s Day celebration! 
URL:https://nsadvocate.org/event/nsfl-international-womens-day-virtual-event/
END:VEVENT
BEGIN:VEVENT
DTSTART;TZID=America/Glace_Bay:20210308T083000
DTEND;TZID=America/Glace_Bay:20210308T100000
DTSTAMP:20260422T173427
CREATED:20210306T134120Z
LAST-MODIFIED:20210306T134332Z
UID:19720-1615192200-1615197600@nsadvocate.org
SUMMARY:Join the NSFL on International Women’s Day for a virtual celebration
DESCRIPTION:“Rise Up\, Resilient Women!” The Nova Scotia Federation of Labours Women’s committee is holding a live virtual event on Monday March 8th at 8:30am below are the details. \n\n\n\nJoin this event online: us02web.zoom.us \n\n\n\nMonday at 8:30 AM UTC-04 – 10:30 AM UTC-04  Duration: 2 hr \n\n\n\nPublic event open to anyone featuring guest speaker – author Karen Dean. \n\n\n\nWe will also be acknowledging this year’s NSFL Sister of the Year recipient. \n\n\n\nOur event is free\, but we ask that you consider making a donation to a women’s shelter in your community. \n\n\n\nSo\, grab a coffee\, log in\, and be a part of our 2021 International Women’s Day celebration! 
URL:https://nsadvocate.org/event/oin-the-nsfl-on-international-womens-day-for-a-virtual-celebration/
END:VEVENT
BEGIN:VEVENT
DTSTART;TZID=America/Glace_Bay:20210308T120000
DTEND;TZID=America/Glace_Bay:20210308T130000
DTSTAMP:20260422T173427
CREATED:20210302T131937Z
LAST-MODIFIED:20210308T014212Z
UID:19649-1615204800-1615208400@nsadvocate.org
SUMMARY:Faculty Author Talk with Dr. Rohini Bannerjee
DESCRIPTION:Facebook https://www.facebook.com/events/1446198275723169/ \n\n\n\nWhat does it mean to live in a society obsessed with thinness? How can we\, collectively and individually\, reconsider our obsession with women’s bodies? \n\n\n\nThese are the questions explored in “Big: Stories about Life in Plus-Sized Bodies”\, and the subject of our next #FacultyAuthorSeries event. Join us on #InternationalWomensDay for a lively discussion of this collection\, including the short story\, “Barbara Streisand orBust!” by Dr. Rohini Bannerjee.
URL:https://nsadvocate.org/event/faculty-author-talk-with-dr-rohini-bannerjee/
END:VEVENT
BEGIN:VEVENT
DTSTART;TZID=America/Glace_Bay:20210308T130000
DTEND;TZID=America/Glace_Bay:20210308T140000
DTSTAMP:20260422T173427
CREATED:20210308T124411Z
LAST-MODIFIED:20210308T124412Z
UID:19727-1615208400-1615212000@nsadvocate.org
SUMMARY:Hell in a Hand Basket to Heaven on Earth: Music by Atlantic / Canadian Women Composers
DESCRIPTION:FAcebook event: https://www.facebook.com/events/1422744901396221/ \n\n\n\nFree  · Facebook Live \n\n\n\n\n\nIn celebration of the ACWC/AFCC’s 40th anniversary and International Women’s Day\, there will be a live-streamed concert from Halifax\, Nova Scotia\, on March 8th\, 2021\, at 1pm AST. \n\n\n\nIt will be coming to you from The Music Room and will feature Jennifer King\, performing piano works by Monica Pearce\, Holly Winter\, Alice Ping Yee Ho\, Amy Brandon\, Emily Doolittle\, and Jean Coulthard. \n\n\n\nhttps://jenniferkingpiano.com/ \n\n\n\nLink to PDF Program: https://bit.ly/38iIlNT \n\n\n\n—-Program: \n\n\n\nMonica Pearce: ‘silks’ \n\n\n\nHolly Winter: ‘Idle Hands’ \n\n\n\nAlice Ping Yee Ho: ‘Garage’ \n\n\n\nAmy Brandon: ‘Frost Moon’ \n\n\n\nEmily Doolittle: ‘Gliese 581c’ \n\n\n\nJean Coulthard: ‘Image Astrale’
URL:https://nsadvocate.org/event/hell-in-a-hand-basket-to-heaven-on-earth-music-by-atlantic-canadian-women-composers/
END:VEVENT
BEGIN:VEVENT
DTSTART;TZID=America/Glace_Bay:20210308T190000
DTEND;TZID=America/Glace_Bay:20210308T203000
DTSTAMP:20260422T173427
CREATED:20210302T132251Z
LAST-MODIFIED:20210302T132337Z
UID:19651-1615230000-1615235400@nsadvocate.org
SUMMARY:Feminist Reset: Centring Collective Care in a Post-Covid Future
DESCRIPTION:Facebook event: https://www.facebook.com/events/472817213742327 \n\n\n\nJoin us for a night of conversation for International Women’s Day\, with El Jones\, Nora Loreto\, and Julianne Acker-Verney. \n\n\n\nJoin the conversation to discuss what our future post-Covid-19 could look like. The pandemic has had a tremendous impact on those who were already made vulnerable by social and economic systems that expects them to fill in gaps left in our society and institutions. What has also been brought to the fore is the power of social movements to push for change\, like the Black Lives Matter movement\, or the feminist movement. How do we work together to ensure that our future post-Covid-19 is one that centres collective care of each other and the planet\, and one that justly supports those needing\, providing and receiving care? \n\n\n\nHosted by CCPA-NS\, Wellness Within and Fernwood Publishing.Sponsored by Adsum for Women & Children; The Alexa McDonough Institute for Women\, Gender and Social Justice; Canadian Research Institute for Advancement of Women; Canadian Union of Public Employees Nova Scotia; Fernwood Publishing; and the Local Council of Women Halifax. \n\n\n\nRegister in advance to get the Zoom link: https://feministreset.eventbrite.ca \n\n\n\n*We will be posting a link of the recording to Facebook.
URL:https://nsadvocate.org/event/feminist-reset-centring-collective-care-in-a-post-covid-future/
END:VEVENT
END:VCALENDAR