BEGIN:VCALENDAR
VERSION:2.0
PRODID:-//Nova Scotia Advocate - ECPv6.9.0//NONSGML v1.0//EN
CALSCALE:GREGORIAN
METHOD:PUBLISH
X-WR-CALNAME:Nova Scotia Advocate
X-ORIGINAL-URL:https://nsadvocate.org
X-WR-CALDESC:Events for Nova Scotia Advocate
REFRESH-INTERVAL;VALUE=DURATION:PT1H
X-Robots-Tag:noindex
X-PUBLISHED-TTL:PT1H
BEGIN:VTIMEZONE
TZID:America/Glace_Bay
BEGIN:DAYLIGHT
TZOFFSETFROM:-0400
TZOFFSETTO:-0300
TZNAME:ADT
DTSTART:20210314T060000
END:DAYLIGHT
BEGIN:STANDARD
TZOFFSETFROM:-0300
TZOFFSETTO:-0400
TZNAME:AST
DTSTART:20211107T050000
END:STANDARD
END:VTIMEZONE
BEGIN:VEVENT
DTSTART;TZID=America/Glace_Bay:20210310T190000
DTEND;TZID=America/Glace_Bay:20210310T203000
DTSTAMP:20260422T160451
CREATED:20210308T124806Z
LAST-MODIFIED:20210308T124809Z
UID:19729-1615402800-1615408200@nsadvocate.org
SUMMARY:Pathways to Justice Documentary and Q&A
DESCRIPTION:FAcebook event: https://www.facebook.com/events/186328819579031/ \n\n\n\nRegister via email and a Zoom link will follow for the event: survivors4change.empowerment@gmail.com \n\n\n\nThis is a free event however donations are welcome\, head over to www.efrymns.ca to donate ! \n\n\n\nJoin us for the screening of the documentary followed by Q&A and discussion. Pathways to Justice is the name of a 3-year project conducted by Be the Peace Institute and the Nova Scotia Association of Black Social Workers to understand both how female-identified people subjected to gender-based violence find justice\, and also how systemic dynamics tend to thwart that pursuit. \n\n\n\nIn honour of International Women’s Day and this years theme being “Choice to Challenge”\, this documentary speaks volumes to the systemic changes needed to achieve better outcomes and more dignified and less traumatizing legal process for survivors. \n\n\n\nThis event is co-sponsored by Be the Peace Institute\, Elizabeth Fry Society of Mainland Nova Scotia and Survivors for Change & EmpowermentFor more information please contact: Carrie Low (survivors4change.empowerment@gmail.com)
URL:https://nsadvocate.org/event/pathways-to-justice-documentary-and-qa/
END:VEVENT
END:VCALENDAR