BEGIN:VCALENDAR
VERSION:2.0
PRODID:-//Nova Scotia Advocate - ECPv6.9.0//NONSGML v1.0//EN
CALSCALE:GREGORIAN
METHOD:PUBLISH
X-WR-CALNAME:Nova Scotia Advocate
X-ORIGINAL-URL:https://nsadvocate.org
X-WR-CALDESC:Events for Nova Scotia Advocate
REFRESH-INTERVAL;VALUE=DURATION:PT1H
X-Robots-Tag:noindex
X-PUBLISHED-TTL:PT1H
BEGIN:VTIMEZONE
TZID:America/Glace_Bay
BEGIN:DAYLIGHT
TZOFFSETFROM:-0400
TZOFFSETTO:-0300
TZNAME:ADT
DTSTART:20210314T060000
END:DAYLIGHT
BEGIN:STANDARD
TZOFFSETFROM:-0300
TZOFFSETTO:-0400
TZNAME:AST
DTSTART:20211107T050000
END:STANDARD
END:VTIMEZONE
BEGIN:VEVENT
DTSTART;TZID=America/Glace_Bay:20210311T110000
DTEND;TZID=America/Glace_Bay:20210311T120000
DTSTAMP:20260422T174502
CREATED:20210302T132635Z
LAST-MODIFIED:20210302T134348Z
UID:19653-1615460400-1615464000@nsadvocate.org
SUMMARY:Black Women and the Justice System
DESCRIPTION:Facebook event: https://www.facebook.com/events/505639074172159/ \n\n\n\nAs always – Zoom link will be emailed to you!This Law Hour’s speaker is El Jones who will be speaking about Black women in the justice system. \n\n\n\nEl Jones is a spoken word poet\, an educator\, journalist\, and community activist living in African Nova Scotia. She was the fifth Poet Laureate of Halifax. In 2016\, El was a recipient of the Burnley “Rocky” Jones human rights award for her community work and work in prison justice. She is a co-founder of the Black Power Hour\, a live radio show with incarcerated people on CKDU that creates space for people inside to share their creative work and discuss contemporary social and political issues. El was appointed the Nancy’s Chair of Women’s Studies at Mount Saint Vincent University for the 2017-2019 term. She is a winner of two Atlantic Journalism gold awards in 2018 and 2019. Her book of spoken word poetry\, Live from the Afrikan Resistance! was published by Roseway Press in 2014. \n\n\n\nWe will be donating to Coverdale\, which is an organization that supports women and gender diverse people who are involved or at risk of becoming involved in the criminal justice system: https://www.coverdale.ca/
URL:https://nsadvocate.org/event/black-women-and-the-justice-system/
END:VEVENT
BEGIN:VEVENT
DTSTART;TZID=America/Glace_Bay:20210311T130000
DTEND;TZID=America/Glace_Bay:20210311T140000
DTSTAMP:20260422T174502
CREATED:20210308T125206Z
LAST-MODIFIED:20210308T125207Z
UID:19731-1615467600-1615471200@nsadvocate.org
SUMMARY:Race and Party Platforms in the Coming Nova Scotia Elections
DESCRIPTION:Race has always been a defining\, and silenced aspect of Nova Scotia politics. Race intersects with gender\, class\, sovereignty\, development\, gentrification\, and so much more.  \n\n\n\nJoin us while we discuss what all provincial parties need to address in their next policy platforms to be taken seriously on the politics of race. \n\n\n\nTo register for this online Zoom event: https://us02web.zoom.us/…/reg…/WN_eifm5AY_Qm-Ea7uhhFZ5pQ \n\n\n\nFor more information on the event\, please visit: https://www.dal.ca/…/events/Racial-politics-panel.html
URL:https://nsadvocate.org/event/race-and-party-platforms-in-the-coming-nova-scotia-elections/
END:VEVENT
BEGIN:VEVENT
DTSTART;TZID=America/Glace_Bay:20210311T150000
DTEND;TZID=America/Glace_Bay:20210311T170000
DTSTAMP:20260422T174502
CREATED:20210308T125607Z
LAST-MODIFIED:20210308T125608Z
UID:19733-1615474800-1615482000@nsadvocate.org
SUMMARY:Commemorate Canada Conference\, Truro\, NS
DESCRIPTION:FAcebook event: https://www.facebook.com/events/2108513319447961/ \n\n\n\nGet your free ticket and join us on Zoom in commemorating 2SLGBTQ+ history in Truro on March 11th from 3:00-4:30 PM AST. The Canadian Centre for Gender and Sexual Diversity will be hosting a virtual history conference for youth to learn about their local and provincial history. There will be a short workshop section hosted by the CCGSD with virtual take-home resources. Joining us as the keynote speaker is Daniel MacKay. \n\n\n\nWe look forward to learning with you on March 11th from 3:00-4:30 PM AST. A secure link will be sent out the day of the conference\, along with some information about our funder Commemorate Canada\, and a survey that is required to be submitted upon the completion of the conference. \n\n\n\nTickets here
URL:https://nsadvocate.org/event/commemorate-canada-conference-truro-ns/
END:VEVENT
END:VCALENDAR