BEGIN:VCALENDAR
VERSION:2.0
PRODID:-//Nova Scotia Advocate - ECPv6.9.0//NONSGML v1.0//EN
CALSCALE:GREGORIAN
METHOD:PUBLISH
X-ORIGINAL-URL:https://nsadvocate.org
X-WR-CALDESC:Events for Nova Scotia Advocate
REFRESH-INTERVAL;VALUE=DURATION:PT1H
X-Robots-Tag:noindex
X-PUBLISHED-TTL:PT1H
BEGIN:VTIMEZONE
TZID:America/Glace_Bay
BEGIN:DAYLIGHT
TZOFFSETFROM:-0400
TZOFFSETTO:-0300
TZNAME:ADT
DTSTART:20210314T060000
END:DAYLIGHT
BEGIN:STANDARD
TZOFFSETFROM:-0300
TZOFFSETTO:-0400
TZNAME:AST
DTSTART:20211107T050000
END:STANDARD
END:VTIMEZONE
BEGIN:VEVENT
DTSTART;TZID=America/Glace_Bay:20210320T140000
DTEND;TZID=America/Glace_Bay:20210320T160000
DTSTAMP:20260422T202629
CREATED:20210319T155322Z
LAST-MODIFIED:20210319T155323Z
UID:19948-1616248800-1616256000@nsadvocate.org
SUMMARY:Politics of Hope: Countering the Roots of Anti-Black Racism: From Atlantic Canada to Canada's Complicity in the Crisis in Haiti
DESCRIPTION:Register on Eventbrite\n\n\nThis event in the Politics of Hope series is co-sponsored by the Atlantic Regional Solidarity Network\, Black Lives Matter\, Fredericton\, the Global Social Justice Project and Unama’ki College\, Cape Breton University. \n\n\n\nOver the past year Covid 19 has more clearly exposed injustices and inequalities that have long existed\, and the killings of George Floyd and Breonna Taylor by police in the US sparked the expansion of the Black Lives Matter movement. Protests spread around the world\, including in Wabanakik/Atlantic Canada\, where two indigenous people\, Chantel Moore and Rodney Levi were shot and killed by police in June 2020 in separate incidents. Exposing the links between these events\, the ensuing uprisings and long standing and ongoing colonial foreign policy towards Haiti\, guest speakers Georges Gabrielle PAUL\, Jafrikayiti and El Jones will discuss how systemic anti-Black racism affects policies in Atlantic Canada\, and Canadian foreign policy towards Haiti\, and how these policies have impacted people’s lives both historically and in contemporary times. \n\n\n\nFurther Reading:\n\n\n\nIn Haiti protests continue against corruption and repression by the government of Jovenal Moïse\, who has been ruling by decree since January 2020. \n\n\n\nThe state of affairs in Haiti today has a lot to do with a history of colonization\, exploitation and Haitian people’s continued attempts to control their own destiny. In 1804\, after a sustained and ultimately successful rebellion against slavery in France’s most profitable plantation colony of St. Domingue\, independence was declared. The new country was named Haiti after the indigenous name for the island\, Ayti. The first Constitution abolished slavery permanently. Powerful\, slave holding nations wouldn’t recognize Haiti and placed trade embargoes on it. In 1825\, while the whole French Atlantic navy waited offshore\, Haiti agreed to pay 150 million francs to France in compensation for loss of property. The formerly enslaved Haitians who had freed themselves were still seen as property by France\, so Haiti was forced to pay for its own citizens. \n\n\n\nIn 2004 Haiti celebrated the 200th anniversary of its independence. Leading up to these celebrations\, the extremely popular democratically elected President\, Jean Bertrand Aristide\, demanded that France pay back US$ 21 billion\, the then equivalent value of the indemnity that was paid to France plus 5% annual interest. The United States\, France and Canada had been preparing for this anniversary year too. On February 29th\, 2004 Canada assisted the United States and France to overthrow the government of President Jean Bertrand Aristide and Fanmi Lavalas. This coup and continued interference in the governance of Haiti has created so much tragedy in Haiti and is proof of the shallowness of any assertions by France\, the United States or Canada that they are nations that defend human rights. \n\n\n\nRecently a letter published in Canadian Dimension and Le Devoir and signed by David Suzuki\, Naomi Klein\, El Jones\, Stephen Lewis and over 500 others was sent to the Canadian government demanding it “stop propping up a repressive and corrupt dictatorship in Haiti.” We hope to amplify that message with this event and create a space for dialogue about anti-Black racism and related issues\, and encourage stronger activism.
URL:https://nsadvocate.org/event/politics-of-hope-countering-the-roots-of-anti-black-racism-from-atlantic-canada-to-canadas-complicity-in-the-crisis-in-haiti/
END:VEVENT
BEGIN:VEVENT
DTSTART;TZID=America/Glace_Bay:20210320T180000
DTEND;TZID=America/Glace_Bay:20210320T220000
DTSTAMP:20260422T202629
CREATED:20210314T135055Z
LAST-MODIFIED:20210314T135056Z
UID:19850-1616263200-1616277600@nsadvocate.org
SUMMARY:Out of the Cold Fundraiser Live Stream
DESCRIPTION:Online: twitch.tv \n\n\n\nAn electronic live stream fundraiser featuring music and video from folks who work the front lines.Out of the Cold Shelter Halifax provides low barrier\, people-centred support rooted in anti-oppressive and harm reduction practices.OTC believes strongly that shelters are a stop-gap measure to address homelessness and that every one of us has the right to safe\, healthy\, and affordable housing. \n\n\n\nMusic by: Nausikaa\, Bing Bong\, NatBeast\, Crttrs\, Wobble Wallah \n\n\n\nYou can send etransfer donations directly to: donations@outofthecold-hfx.c
URL:https://nsadvocate.org/event/out-of-the-cold-fundraiser-live-stream/
END:VEVENT
END:VCALENDAR