BEGIN:VCALENDAR
VERSION:2.0
PRODID:-//Nova Scotia Advocate - ECPv6.9.0//NONSGML v1.0//EN
CALSCALE:GREGORIAN
METHOD:PUBLISH
X-WR-CALNAME:Nova Scotia Advocate
X-ORIGINAL-URL:https://nsadvocate.org
X-WR-CALDESC:Events for Nova Scotia Advocate
REFRESH-INTERVAL;VALUE=DURATION:PT1H
X-Robots-Tag:noindex
X-PUBLISHED-TTL:PT1H
BEGIN:VTIMEZONE
TZID:America/Glace_Bay
BEGIN:DAYLIGHT
TZOFFSETFROM:-0400
TZOFFSETTO:-0300
TZNAME:ADT
DTSTART:20210314T060000
END:DAYLIGHT
BEGIN:STANDARD
TZOFFSETFROM:-0300
TZOFFSETTO:-0400
TZNAME:AST
DTSTART:20211107T050000
END:STANDARD
END:VTIMEZONE
BEGIN:VEVENT
DTSTART;TZID=America/Glace_Bay:20210325T180000
DTEND;TZID=America/Glace_Bay:20210325T193000
DTSTAMP:20260422T222314
CREATED:20210321T200533Z
LAST-MODIFIED:20210321T200534Z
UID:19983-1616695200-1616700600@nsadvocate.org
SUMMARY:Nova Scotia ACORN\, Halifax-Peninsula Chapter Meeting
DESCRIPTION:Facebook event: www.facebook.com/events/160187962590830/ \n\n\n\nJoin us for our Halifax-Peninsula chapter meeting!We’re getting organized for the next steps in our rent control and landlord licensing campaigns\, as well as the minimum wage and raising assistance rates! \n\n\n\nJoin at https://bit.ly/NSACORN \n\n\n\nQuestions? Email halifax@acorncanada.org
URL:https://nsadvocate.org/event/nova-scotia-acorn-halifax-peninsula-chapter-meeting/
END:VEVENT
END:VCALENDAR