BEGIN:VCALENDAR
VERSION:2.0
PRODID:-//Nova Scotia Advocate - ECPv6.9.0//NONSGML v1.0//EN
CALSCALE:GREGORIAN
METHOD:PUBLISH
X-ORIGINAL-URL:https://nsadvocate.org
X-WR-CALDESC:Events for Nova Scotia Advocate
REFRESH-INTERVAL;VALUE=DURATION:PT1H
X-Robots-Tag:noindex
X-PUBLISHED-TTL:PT1H
BEGIN:VTIMEZONE
TZID:America/Glace_Bay
BEGIN:DAYLIGHT
TZOFFSETFROM:-0400
TZOFFSETTO:-0300
TZNAME:ADT
DTSTART:20210314T060000
END:DAYLIGHT
BEGIN:STANDARD
TZOFFSETFROM:-0300
TZOFFSETTO:-0400
TZNAME:AST
DTSTART:20211107T050000
END:STANDARD
END:VTIMEZONE
BEGIN:VEVENT
DTSTART;TZID=America/Glace_Bay:20210331T093000
DTEND;TZID=America/Glace_Bay:20210331T100000
DTSTAMP:20260422T173508
CREATED:20210314T223401Z
LAST-MODIFIED:20210314T223402Z
UID:19860-1617183000-1617184800@nsadvocate.org
SUMMARY:International Transgender Day of Visibility
DESCRIPTION:(as of Feb 21\, Yarmouth Pride has requested Town Council to raise the trans flag.)This simple act will send a clear message that the transgender people in Yarmouth County are valued and respected. \n\n\n\nFor more information\, the event is produced by the Yarmouth Pride Collective\, yarmouthpride.ca
URL:https://nsadvocate.org/event/international-transgender-day-of-visibility/
END:VEVENT
BEGIN:VEVENT
DTSTART;TZID=America/Glace_Bay:20210331T140000
DTEND;TZID=America/Glace_Bay:20210331T150000
DTSTAMP:20260422T173508
CREATED:20210329T232145Z
LAST-MODIFIED:20210329T232147Z
UID:20151-1617199200-1617202800@nsadvocate.org
SUMMARY:Stop unfair eviction
DESCRIPTION:Our neighbour Randy is being evicted by CAPREIT – the largest landlord in the country – on arrears because of COVID-19! Through no fault of his own\, Randy didn’t qualify for CERB and couldn’t work throughout the pandemic. \n\n\n\nDespite being able to work again AND agreeing to a repayment plan\, CAPREIT is going back on their word and wants Randy out!We won’t stand for COVID evictions! We’re demanding CAPREIT meet with tenants\, reduce Randy’s rental arrears\, and sign on to a repayment plan and STOP RANDY’S EVICTION! \n\n\n\nHelp us put pressure on CAPREIT!! Join us Wednesday\, March 31st at 2pm outside Harbour View’s management office at 2334 Longard Plaza. \n\n\n\nQuestions? Email us: halifax@acorncanada.org
URL:https://nsadvocate.org/event/stop-unfair-eviction/
END:VEVENT
BEGIN:VEVENT
DTSTART;TZID=America/Glace_Bay:20210331T173000
DTEND;TZID=America/Glace_Bay:20210331T200000
DTSTAMP:20260422T173508
CREATED:20210326T150050Z
LAST-MODIFIED:20210326T150051Z
UID:20067-1617211800-1617220800@nsadvocate.org
SUMMARY:Our Students Only - Panel Discussion to Commemorate Social Work History Month
DESCRIPTION:EVERYONE IS WELCOME. REGISTER ON EVENTBRITE TO ATTEND \n\n\nRegister on Eventbrite\n\n\nDIRECT LINK TO EVENT: \n\n\n\nhttps://ca.bbcollab.com/guest/10e30e42a0cf4cf68f2928ae693887ad
URL:https://nsadvocate.org/event/our-students-only-panel-discussion-to-commemorate-social-work-history-month/
END:VEVENT
END:VCALENDAR