BEGIN:VCALENDAR
VERSION:2.0
PRODID:-//Nova Scotia Advocate - ECPv6.9.0//NONSGML v1.0//EN
CALSCALE:GREGORIAN
METHOD:PUBLISH
X-WR-CALNAME:Nova Scotia Advocate
X-ORIGINAL-URL:https://nsadvocate.org
X-WR-CALDESC:Events for Nova Scotia Advocate
REFRESH-INTERVAL;VALUE=DURATION:PT1H
X-Robots-Tag:noindex
X-PUBLISHED-TTL:PT1H
BEGIN:VTIMEZONE
TZID:America/Glace_Bay
BEGIN:DAYLIGHT
TZOFFSETFROM:-0400
TZOFFSETTO:-0300
TZNAME:ADT
DTSTART:20210314T060000
END:DAYLIGHT
BEGIN:STANDARD
TZOFFSETFROM:-0300
TZOFFSETTO:-0400
TZNAME:AST
DTSTART:20211107T050000
END:STANDARD
END:VTIMEZONE
BEGIN:VEVENT
DTSTART;TZID=America/Glace_Bay:20210402T163000
DTEND;TZID=America/Glace_Bay:20210402T180000
DTSTAMP:20260422T170956
CREATED:20210328T224713Z
LAST-MODIFIED:20210328T224741Z
UID:20123-1617381000-1617386400@nsadvocate.org
SUMMARY:BIPOC Youth Cafe — Poetry Night with Deirdre Lee
DESCRIPTION:Facebook event; https://www.facebook.com/events/170343048255178/ \n\n\n\nBIPOCSS youth cafe is a drop in for Black\, Indigenous\, People of Colour & Queer/2SLGBTQ+ youth 14 and up on the South Shore every Friday at The Biscuit Eater Cafe & Books in Mahone Bay! \n\n\n\nThis Friday\, March 26 we have a special guest Deirdre Lee joining us to share some of her poetry\, talk about poeming & writing poems of our own. Space is limited to 15 and Deirdre’s performance will be filmed so please let us know if you will be coming at bipocss@gmail.com  \n\n\n\nDeirdre Lee is a poet\, performer & maker of art\, medicines & magic. \n\n\n\nHer work is intertwined with her complicated & sometimes confusing reality as a racialized\, neurodivergent woman\, & explores her perspectives on identity & healing. \n\n\n\nDeirdre has performed her poetry across Turtle Island\, including numerous appearances at both the Verses Festival of Words & the Canadian Festival Of Spoken Word. She was the co-creator of the 2018 Nocturne Beacon project “Mi’kma’ki Nights” & a finalist at the 2019 Canadian Individual Poetry Slam. Deirdre has appeared at Word On the Street as well as performing with Zuppa Theatre. Her most recent poem can be found in the Indigenous Sovereignty issue of Canadian Art Magazine. \n\n\n\nWhen she is not writing or performing\, Deirdre beads\, sings to her cats & bakes the best granola you’ve never had. \n\n\n\nDeirdre lives in Kjipuktuk\, Mi’kma’ki\, the traditional & unceded territory of the Mi’kmaq & the home of Black arrivants for over three centuries.
URL:https://nsadvocate.org/event/bipoc-youth-cafe-poetry-night-with-deirdre-lee/
END:VEVENT
END:VCALENDAR