BEGIN:VCALENDAR
VERSION:2.0
PRODID:-//Nova Scotia Advocate - ECPv6.9.0//NONSGML v1.0//EN
CALSCALE:GREGORIAN
METHOD:PUBLISH
X-ORIGINAL-URL:https://nsadvocate.org
X-WR-CALDESC:Events for Nova Scotia Advocate
REFRESH-INTERVAL;VALUE=DURATION:PT1H
X-Robots-Tag:noindex
X-PUBLISHED-TTL:PT1H
BEGIN:VTIMEZONE
TZID:America/Glace_Bay
BEGIN:DAYLIGHT
TZOFFSETFROM:-0400
TZOFFSETTO:-0300
TZNAME:ADT
DTSTART:20210314T060000
END:DAYLIGHT
BEGIN:STANDARD
TZOFFSETFROM:-0300
TZOFFSETTO:-0400
TZNAME:AST
DTSTART:20211107T050000
END:STANDARD
END:VTIMEZONE
BEGIN:VEVENT
DTSTART;TZID=America/Glace_Bay:20210403T110000
DTEND;TZID=America/Glace_Bay:20210403T120000
DTSTAMP:20260422T102833
CREATED:20210328T224923Z
LAST-MODIFIED:20210328T224924Z
UID:20125-1617447600-1617451200@nsadvocate.org
SUMMARY:Dartmouth ACORN Chapter Meeting
DESCRIPTION:Join us for our Dartmouth chapter meeting! We’re getting organized for the next steps in our rent control and landlord licensing campaigns\, as well as the minimum wage and raising assistance rates! \n\n\n\nJoin at https://bit.ly/NSACORN \n\n\n\nQuestions? Email halifax@acorncanada.org
URL:https://nsadvocate.org/event/dartmouth-acorn-chapter-meeting/
END:VEVENT
END:VCALENDAR