BEGIN:VCALENDAR
VERSION:2.0
PRODID:-//Nova Scotia Advocate - ECPv6.9.0//NONSGML v1.0//EN
CALSCALE:GREGORIAN
METHOD:PUBLISH
X-WR-CALNAME:Nova Scotia Advocate
X-ORIGINAL-URL:https://nsadvocate.org
X-WR-CALDESC:Events for Nova Scotia Advocate
REFRESH-INTERVAL;VALUE=DURATION:PT1H
X-Robots-Tag:noindex
X-PUBLISHED-TTL:PT1H
BEGIN:VTIMEZONE
TZID:America/Glace_Bay
BEGIN:DAYLIGHT
TZOFFSETFROM:-0400
TZOFFSETTO:-0300
TZNAME:ADT
DTSTART:20210314T060000
END:DAYLIGHT
BEGIN:STANDARD
TZOFFSETFROM:-0300
TZOFFSETTO:-0400
TZNAME:AST
DTSTART:20211107T050000
END:STANDARD
END:VTIMEZONE
BEGIN:VEVENT
DTSTART;TZID=America/Glace_Bay:20210406T180000
DTEND;TZID=America/Glace_Bay:20210406T193000
DTSTAMP:20260422T115811
CREATED:20210404T184107Z
LAST-MODIFIED:20210404T184110Z
UID:20243-1617732000-1617737400@nsadvocate.org
SUMMARY:ACORN Nova Scotia: Halifax-Mainland Chapter Meeting
DESCRIPTION:Facebook event page: https://www.facebook.com/events/3811926698889585 \n\n\n\nJoin us for our Halifax-Mainland chapter meeting! \n\n\n\nWe’re getting organized for the next steps in our rent control and landlord licensing campaigns\, as well as the minimum wage and raising assistance rates! \n\n\n\nJoin at https://bit.ly/NSACORNQuestions? Email halifax@acorncanada.org
URL:https://nsadvocate.org/event/acorn-nova-scotia-halifax-mainland-chapter-meeting/
END:VEVENT
BEGIN:VEVENT
DTSTART;TZID=America/Glace_Bay:20210406T190000
DTEND;TZID=America/Glace_Bay:20210406T210000
DTSTAMP:20260422T115811
CREATED:20210406T135347Z
LAST-MODIFIED:20210406T135442Z
UID:20285-1617735600-1617742800@nsadvocate.org
SUMMARY:Want to know your rights as a migrant worker in Nova Scotia?
DESCRIPTION:Join us for a presentation in English / Patois on Youtube Live. Hosted by the Migrant Worker Rights Working Group. Message us on WhatsApp at 902-329-9595 if you have any questions during the presentation or for more info! \n\n\n\n\n\n\n\nHere is the link to the Youtube event.
URL:https://nsadvocate.org/event/want-to-know-your-rights-as-a-migrant-worker-in-nova-scotia/
END:VEVENT
END:VCALENDAR