BEGIN:VCALENDAR
VERSION:2.0
PRODID:-//Nova Scotia Advocate - ECPv6.9.0//NONSGML v1.0//EN
CALSCALE:GREGORIAN
METHOD:PUBLISH
X-ORIGINAL-URL:https://nsadvocate.org
X-WR-CALDESC:Events for Nova Scotia Advocate
REFRESH-INTERVAL;VALUE=DURATION:PT1H
X-Robots-Tag:noindex
X-PUBLISHED-TTL:PT1H
BEGIN:VTIMEZONE
TZID:America/Glace_Bay
BEGIN:DAYLIGHT
TZOFFSETFROM:-0400
TZOFFSETTO:-0300
TZNAME:ADT
DTSTART:20210314T060000
END:DAYLIGHT
BEGIN:STANDARD
TZOFFSETFROM:-0300
TZOFFSETTO:-0400
TZNAME:AST
DTSTART:20211107T050000
END:STANDARD
END:VTIMEZONE
BEGIN:VEVENT
DTSTART;TZID=America/Glace_Bay:20210419T123000
DTEND;TZID=America/Glace_Bay:20210419T153000
DTSTAMP:20260422T170306
CREATED:20210413T200653Z
LAST-MODIFIED:20210413T200654Z
UID:20404-1618835400-1618846200@nsadvocate.org
SUMMARY:Special Board of Police Commissioners
DESCRIPTION:Description: \n\n\n\nThe meeting will be held virtually.  \n\n\n\nCheck the upcoming agenda for more information. Meeting agendas are generally available by the Friday prior to the meetin
URL:https://nsadvocate.org/event/special-board-of-police-commissioners/
END:VEVENT
END:VCALENDAR