BEGIN:VCALENDAR
VERSION:2.0
PRODID:-//Nova Scotia Advocate - ECPv6.9.0//NONSGML v1.0//EN
CALSCALE:GREGORIAN
METHOD:PUBLISH
X-WR-CALNAME:Nova Scotia Advocate
X-ORIGINAL-URL:https://nsadvocate.org
X-WR-CALDESC:Events for Nova Scotia Advocate
REFRESH-INTERVAL;VALUE=DURATION:PT1H
X-Robots-Tag:noindex
X-PUBLISHED-TTL:PT1H
BEGIN:VTIMEZONE
TZID:America/Glace_Bay
BEGIN:DAYLIGHT
TZOFFSETFROM:-0400
TZOFFSETTO:-0300
TZNAME:ADT
DTSTART:20210314T060000
END:DAYLIGHT
BEGIN:STANDARD
TZOFFSETFROM:-0300
TZOFFSETTO:-0400
TZNAME:AST
DTSTART:20211107T050000
END:STANDARD
END:VTIMEZONE
BEGIN:VEVENT
DTSTART;TZID=America/Glace_Bay:20210422T190000
DTEND;TZID=America/Glace_Bay:20210422T203000
DTSTAMP:20260422T171007
CREATED:20210418T162014Z
LAST-MODIFIED:20210418T162015Z
UID:20469-1619118000-1619123400@nsadvocate.org
SUMMARY:𝘼𝙡𝙚𝙭𝙖! Live Book Launch with author Stephen Kimber
DESCRIPTION:Facebook event page: https://www.facebook.com/events/195011795489098 \n\n\n\nJoin us for the digital launch of Stephen Kimber’s new book 𝘼𝙡𝙚𝙭𝙖!: 𝘾𝙝𝙖𝙣𝙜𝙞𝙣𝙜 𝙩𝙝𝙚 𝙁𝙖𝙘𝙚 𝙤𝙛 𝘾𝙖𝙣𝙖𝙙𝙞𝙖𝙣 𝙋𝙤𝙡𝙞𝙩𝙞𝙘𝙨\, co-hosted by Goose Lane Editions and the Alexa McDonough Institute for Women\, Gender and Social Justice at Mount Saint Vincent University. All are welcome.The book tells the story of ground-breaking Canadian political leader\, champion of women\, and human rights advocate Alexa McDonough\, OC\, ONS\, DHumL. \n\n\n\nAn advocate for women in politics\, Alexa was the first woman to lead a recognized political party in Canada. In the 2006 federal election\, she became the first woman to win four consecutive terms representing Nova Scotia in Parliament and the second MP to represent Halifax for four consecutive federal terms. That year\, she was also the only woman elected among 32 Members of Parliament in Atlantic Canada. \n\n\n\n𝗧𝗵𝗶𝘀 𝘀𝗽𝗲𝗰𝗶𝗮𝗹 𝗹𝗶𝘃𝗲 𝗲𝘃𝗲𝗻𝘁 𝘄𝗶𝗹𝗹 𝗳𝗲𝗮𝘁𝘂𝗿𝗲 𝗿𝗲𝗺𝗮𝗿𝗸𝘀 𝗯𝘆:– Stephen Kimber\, Author\, 𝘼𝙡𝙚𝙭𝙖!: 𝘾𝙝𝙖𝙣𝙜𝙞𝙣𝙜 𝙩𝙝𝙚 𝙁𝙖𝙘𝙚 𝙤𝙛 𝘾𝙖𝙣𝙖𝙙𝙞𝙖𝙣 𝙋𝙤𝙡𝙞𝙩𝙞𝙘𝙨– and more special guests\, TBA \n\n\n\n𝗔𝘂𝗱𝗶𝗲𝗻𝗰𝗲 𝗤&𝗔Questions for author Stephen Kimber should be submitted in advance by emailing digital [at] gooselane.com. Please use the subject line “Alexa Q&A.” \n\n\n\n𝗛𝗼𝘄 𝘁𝗼 𝗝𝗼𝗶𝗻The event will be streaming on YouTube Live.https://youtu.be/MnHXT2h1Fao \n\n\n\nYou can register in advance through Eventbrite to receive a notification before the event goes live.https://www.eventbrite.ca/…/alexa-live-book-launch-with… \n\n\n\n𝗔𝗯𝗼𝘂𝘁 𝘁𝗵𝗲 𝗕𝗼𝗼𝗸In this authorized biography\, veteran author Stephen Kimber chronicles Alexa’s life and political career and with it\, weaves a narrative of the changing attitudes towards women in politics\, from her early battles as the lone female MLA in a hostile Nova Scotian legislature to her leadership of the federal NDP to her role as senior stateswoman in Jack Layton’s shadow cabinet. Along the way\, Stephen delves into Alexa’s personal life to uncover the origins of her political career: her upbringing in a wealthy family committed to progressive politics\, her tightknit circles of female friends\, her personal metamorphosis from “wife-of” to “leader-of\,” and her emergence as a political leader whose importance goes beyond partisan politics. The result is an engrossing story of one of Canada’s most beloved politicians\, whose common touch and lifelong advocacy of progressive causes made her a significant player in Canadian public life. \n\n\n\nThe book is available for pre-order now online at gooselane.com. It will be available starting April 20\, 2021 at King’s Co-op Bookstore\, your local independent bookseller\, and wherever fine books are sold. \n\n\n\nAbout Stephen KimberStephen Kimber\, a Professor of Journalism at the University of King’s College in Halifax and co-founder of the university’s Master of Fine Arts in Creative Nonfiction program\, is an award-winning writer\, editor\, and broadcaster. He is the author of two novels and 10 non-fiction books\, including What Lies Across the Water: The Real Story of the Cuban Five. Stephen worked for Alexa McDonough as a freelance speechwriter in the early days of her NDP leadership in Nova Scotia. \n\n\n\n𝗔𝗯𝗼𝘂𝘁 𝘁𝗵𝗲 𝗔𝗹𝗲𝘅𝗮 𝗠𝗰𝗗𝗼𝗻𝗼𝘂𝗴𝗵 𝗜𝗻𝘀𝘁𝗶𝘁𝘂𝘁𝗲 𝗳𝗼𝗿 𝗪𝗼𝗺𝗲𝗻\, 𝗚𝗲𝗻𝗱𝗲𝗿 𝗮𝗻𝗱 𝗦𝗼𝗰𝗶𝗮𝗹 𝗝𝘂𝘀𝘁𝗶𝗰𝗲The Alexa McDonough Institute for Women\, Gender\, and Social Justice aims to achieve equity and improve lives through feminist initiatives that extend knowledge and understanding of issues related to women\, girls\, gender\, and social justice for the Mount Saint Vincent University community and beyond.
URL:https://nsadvocate.org/event/%f0%9d%98%bc%f0%9d%99%a1%f0%9d%99%9a%f0%9d%99%ad%f0%9d%99%96-live-book-launch-with-author-stephen-kimber/
END:VEVENT
END:VCALENDAR