BEGIN:VCALENDAR
VERSION:2.0
PRODID:-//Nova Scotia Advocate - ECPv6.9.0//NONSGML v1.0//EN
CALSCALE:GREGORIAN
METHOD:PUBLISH
X-ORIGINAL-URL:https://nsadvocate.org
X-WR-CALDESC:Events for Nova Scotia Advocate
REFRESH-INTERVAL;VALUE=DURATION:PT1H
X-Robots-Tag:noindex
X-PUBLISHED-TTL:PT1H
BEGIN:VTIMEZONE
TZID:America/Glace_Bay
BEGIN:DAYLIGHT
TZOFFSETFROM:-0400
TZOFFSETTO:-0300
TZNAME:ADT
DTSTART:20210314T060000
END:DAYLIGHT
BEGIN:STANDARD
TZOFFSETFROM:-0300
TZOFFSETTO:-0400
TZNAME:AST
DTSTART:20211107T050000
END:STANDARD
END:VTIMEZONE
BEGIN:VEVENT
DTSTART;TZID=America/Glace_Bay:20210426T073000
DTEND;TZID=America/Glace_Bay:20210426T200000
DTSTAMP:20260422T171130
CREATED:20210425T200403Z
LAST-MODIFIED:20210425T200404Z
UID:20604-1619422200-1619467200@nsadvocate.org
SUMMARY:Panel One: The Bay of Fundy: Natural Wonder or Nuclear Industry Test Site?
DESCRIPTION:Facebook event page: https://www.facebook.com/events/189754902780724 \n\n\n\nPanel One: The Bay of Fundy: \n\n\n\nNatural Wonder or Nuclear Industry Test Site? \n\n\n\nFree • Registration is required.https://raven-research.org/April-webinars \n\n\n\nOrganized by the RAVEN project at the University of New Brunswick \n\n\n\nThis event date is the 35th anniversary of the Chernobyl disaster.The Bay of Fundy is one of the 7 Natural Wonders of North America\, one of the richest marine ecosystems on the planet and feeding ground for millions of migratory birds.The governments of Canada and New Brunswick have funded two start-up companies to develop experimental nuclear projects beside the Bay of Fundy on the site of the Point Lepreau CANDU nuclear reactor.Canadian regulatory agencies have no experience with these technologies and experts have raised many safety concerns. After nuclear industry lobbying\, the Canadian government exempted these projects from a federal environmental impact assessment. \n\n\n\nPoint Lepreau is located on the shared traditional and unceded territories of the Peskotomuhkati and Wolastoq Nations.The panel features Indigenous leaders and academic and medical experts as presenters followed by Q&A with registrants. \n\n\n\nPanel One:Dr. Susan O’Donnell\, University of New BrunswickIntroduction • moderatorChief Hugh Akagi\, Peskotomuhkati NationThe Bay of Fundy and Peskotomuhkati peoplesDr. Gordon Edwards\, Canadian Coalition for Nuclear ResponsibilityThe Point Lepreau reactor vs. the experimental reactors for the Bay of Fundy siteDr. Dale Dewar\, Former Executive Director\, Physicians for Global Survival \n\n\n\nChernobyl: What we learned about the health impacts from a nuclear disaster \n\n\n\nFree • Registration is required.https://raven-research.org/April-webinars \n\n\n\nOrganized by the RAVEN project at the University of New Brunswick
URL:https://nsadvocate.org/event/panel-one-the-bay-of-fundy-natural-wonder-or-nuclear-industry-test-site/
END:VEVENT
END:VCALENDAR