BEGIN:VCALENDAR
VERSION:2.0
PRODID:-//Nova Scotia Advocate - ECPv6.9.0//NONSGML v1.0//EN
CALSCALE:GREGORIAN
METHOD:PUBLISH
X-ORIGINAL-URL:https://nsadvocate.org
X-WR-CALDESC:Events for Nova Scotia Advocate
REFRESH-INTERVAL;VALUE=DURATION:PT1H
X-Robots-Tag:noindex
X-PUBLISHED-TTL:PT1H
BEGIN:VTIMEZONE
TZID:America/Glace_Bay
BEGIN:DAYLIGHT
TZOFFSETFROM:-0400
TZOFFSETTO:-0300
TZNAME:ADT
DTSTART:20210314T060000
END:DAYLIGHT
BEGIN:STANDARD
TZOFFSETFROM:-0300
TZOFFSETTO:-0400
TZNAME:AST
DTSTART:20211107T050000
END:STANDARD
END:VTIMEZONE
BEGIN:VEVENT
DTSTART;TZID=America/Glace_Bay:20210427T163000
DTEND;TZID=America/Glace_Bay:20210427T180000
DTSTAMP:20260422T102847
CREATED:20210326T151208Z
LAST-MODIFIED:20210326T151209Z
UID:20073-1619541000-1619546400@nsadvocate.org
SUMMARY:Equity Watch webinar: Inequity by Design\, How Designers\, Architects and City Planners Exclude So Many of Us
DESCRIPTION:To register for this webinar\, go to:https://zoom.us/j/97159466203?pwd=M3IzQUk1aXdwVlAyb3ZxWWV5MzRKQT09
URL:https://nsadvocate.org/event/equity-watch-webinar-inequity-by-design-how-designers-architects-and-city-planners-exclude-so-many-of-us/
END:VEVENT
BEGIN:VEVENT
DTSTART;TZID=America/Glace_Bay:20210427T183000
DTEND;TZID=America/Glace_Bay:20210427T203000
DTSTAMP:20260422T102847
CREATED:20210418T163257Z
LAST-MODIFIED:20210418T163548Z
UID:20471-1619548200-1619555400@nsadvocate.org
SUMMARY:Anti-Black Racism in workplaces and Trade unions
DESCRIPTION:A discussion of how employers and unions perpetuate anti-Black racism and systemic discrimination\, and how people fight back. \n\n\n\nThe forum will examine the Black class action lawsuit recently filed against the federal public service for decades of systemic discrimination\, and will shed light on current research into the path-breaking 1990s case (documented in the Lynn Jones Heritage Collection) against intersecting grounds of discrimination in the Public Service Alliance of Canada (PSAC)\, which are unresolved into the present. \n\n\n\n\n\n\n\nWhat you can expect \n\n\n\nYou can participate with video and/or microphone on\, or sit back and watch. Stay for the Q&A. \n\n\n\n\n\n\n\nHow to attend \n\n\n\nRegister 1 attendee per participant. You will be emailed an invitation link to Zoom and instructions on the day of the event.  \n\n\n\nhttps://halifax.bibliocommons.com/events/search/index/event/60788eee90c24e2400fb7967 \n\n\n\nTech Requirements: All devices are accepted. \n\n\n\nNew to Zoom? No problem. Instructions will be emailed to you\, and we’ll be there to guide you. \n\n\n\n\n\n\n\nRegistration ends at 4:00 PM on April 27.  The registration link will be sent shortly after 4:00 PM. Latecomers can also email anthony.gracey@gmail.com for the Zoom link.
URL:https://nsadvocate.org/event/anti-black-racism-in-workplaces-and-trade-unions/
END:VEVENT
BEGIN:VEVENT
DTSTART;TZID=America/Glace_Bay:20210427T190000
DTEND;TZID=America/Glace_Bay:20210427T203000
DTSTAMP:20260422T102847
CREATED:20210425T200628Z
LAST-MODIFIED:20210425T200629Z
UID:20606-1619550000-1619555400@nsadvocate.org
SUMMARY:Free webinar: Workplace accessibility and accommodations
DESCRIPTION:Facebook event page: https://www.facebook.com/events/3651486538297070 \n\n\n\nHuman rights law in Nova Scotia protects workers from discrimination at work\, including disability-based discrimination. \n\n\n\nAt this upcoming webinar\, law student and WAC volunteer\, Yazan\, will discuss how workers can have their disabilities accommodated at work and what to do if your boss fails to meet their legal obligations. \n\n\n\nOnline: us02web.zoom.us
URL:https://nsadvocate.org/event/free-webinar-workplace-accessibility-and-accommodations/
END:VEVENT
END:VCALENDAR