BEGIN:VCALENDAR
VERSION:2.0
PRODID:-//Nova Scotia Advocate - ECPv6.9.0//NONSGML v1.0//EN
CALSCALE:GREGORIAN
METHOD:PUBLISH
X-ORIGINAL-URL:https://nsadvocate.org
X-WR-CALDESC:Events for Nova Scotia Advocate
REFRESH-INTERVAL;VALUE=DURATION:PT1H
X-Robots-Tag:noindex
X-PUBLISHED-TTL:PT1H
BEGIN:VTIMEZONE
TZID:America/Glace_Bay
BEGIN:DAYLIGHT
TZOFFSETFROM:-0400
TZOFFSETTO:-0300
TZNAME:ADT
DTSTART:20210314T060000
END:DAYLIGHT
BEGIN:STANDARD
TZOFFSETFROM:-0300
TZOFFSETTO:-0400
TZNAME:AST
DTSTART:20211107T050000
END:STANDARD
END:VTIMEZONE
BEGIN:VEVENT
DTSTART;TZID=America/Glace_Bay:20210430T130000
DTEND;TZID=America/Glace_Bay:20210430T143000
DTSTAMP:20260422T120051
CREATED:20210414T201357Z
LAST-MODIFIED:20210414T201923Z
UID:20430-1619787600-1619793000@nsadvocate.org
SUMMARY:Academic Well-Being of Racialized Students Book Launch
DESCRIPTION:Facebook event page: https://www.facebook.com/events/181425807130398/ \n\n\n\nSMU Patrick Power Library in collaboration with: Fernwood Publishing\, SMU Women and Gender Studies\, and Racialized Students Academic Network present the launch celebration of ‘Academic Well-Being of Racialized Students’. Join us for a panel discussion with Ahrthyh Arumugam\, Fallen Matthews\, Diane Obed\, & Benita Bunjun\, as well as poetry by Tammy Williams. Dr. Sailaja Krishnamurti will be the discussant for the panel.
URL:https://nsadvocate.org/event/academic-well-being-of-racialized-students-book-launch/
END:VEVENT
END:VCALENDAR