BEGIN:VCALENDAR
VERSION:2.0
PRODID:-//Nova Scotia Advocate - ECPv6.9.0//NONSGML v1.0//EN
CALSCALE:GREGORIAN
METHOD:PUBLISH
X-ORIGINAL-URL:https://nsadvocate.org
X-WR-CALDESC:Events for Nova Scotia Advocate
REFRESH-INTERVAL;VALUE=DURATION:PT1H
X-Robots-Tag:noindex
X-PUBLISHED-TTL:PT1H
BEGIN:VTIMEZONE
TZID:America/Glace_Bay
BEGIN:DAYLIGHT
TZOFFSETFROM:-0400
TZOFFSETTO:-0300
TZNAME:ADT
DTSTART:20210314T060000
END:DAYLIGHT
BEGIN:STANDARD
TZOFFSETFROM:-0300
TZOFFSETTO:-0400
TZNAME:AST
DTSTART:20211107T050000
END:STANDARD
END:VTIMEZONE
BEGIN:VEVENT
DTSTART;TZID=America/Glace_Bay:20210504T110000
DTEND;TZID=America/Glace_Bay:20210504T120000
DTSTAMP:20260422T201431
CREATED:20210502T194743Z
LAST-MODIFIED:20210502T194744Z
UID:20704-1620126000-1620129600@nsadvocate.org
SUMMARY:Rein in REITs! MP Picket
DESCRIPTION:Facebook page: https://www.facebook.com/events/466865584640422/ \n\n\n\nAndy Fillmore constituency office\, 1888 Brunswick Street\, Halifax \n\n\n\nJoin us across Canada as we picket MPs offices to demand they Rein in the REITs!
URL:https://nsadvocate.org/event/rein-in-reits-mp-picket/
END:VEVENT
END:VCALENDAR