BEGIN:VCALENDAR
VERSION:2.0
PRODID:-//Nova Scotia Advocate - ECPv6.9.0//NONSGML v1.0//EN
CALSCALE:GREGORIAN
METHOD:PUBLISH
X-ORIGINAL-URL:https://nsadvocate.org
X-WR-CALDESC:Events for Nova Scotia Advocate
REFRESH-INTERVAL;VALUE=DURATION:PT1H
X-Robots-Tag:noindex
X-PUBLISHED-TTL:PT1H
BEGIN:VTIMEZONE
TZID:America/Glace_Bay
BEGIN:DAYLIGHT
TZOFFSETFROM:-0400
TZOFFSETTO:-0300
TZNAME:ADT
DTSTART:20210314T060000
END:DAYLIGHT
BEGIN:STANDARD
TZOFFSETFROM:-0300
TZOFFSETTO:-0400
TZNAME:AST
DTSTART:20211107T050000
END:STANDARD
END:VTIMEZONE
BEGIN:VEVENT
DTSTART;TZID=America/Glace_Bay:20210510T190000
DTEND;TZID=America/Glace_Bay:20210510T203000
DTSTAMP:20260422T135124
CREATED:20210502T195658Z
LAST-MODIFIED:20210502T195829Z
UID:20706-1620673200-1620678600@nsadvocate.org
SUMMARY:Webinar: Stop the federal subsidy for Goldboro LNG!
DESCRIPTION:Facebook event page: https://www.facebook.com/events/210694777199631/ \n\n\n\n*** Register here ***: https://us02web.zoom.us/…/tZcqcu6gqz0sHdYzvkk8Iv9vNJ… \n\n\n\nPieridae Energy\, the company behind Goldboro LNG\, has asked the federal government for nearly one billion dollars to get their dangerous liquified natural gas (LNG) project off the ground. \n\n\n\nThe company has been aggressively lobbying key ministers\, MPs\, and government staff to secure a financing agreement that could kickstart further investment in the project. \n\n\n\nWe still have time to stop that financing agreement — but we need to act together\, and quickly. \n\n\n\nJoin us virtually on May 10th (7pm Atlantic Time) to learn more about this project and the risks it poses to our climate\, communities\, and democracy. \n\n\n\nAt this online meeting you will: Hear from experts and activists working to stop Goldboro LNG Learn about how Pieridae is lobbying multiple ministers\, Atlantic MPs\, and government staff to get this billion-dollar subsidy Be invited to take action to stop this subsidy Get connected to other activists and organizers in the Atlantic who are working to stop this dangerous LNG project \n\n\n\n*** Register here ***: https://us02web.zoom.us/…/tZcqcu6gqz0sHdYzvkk8Iv9vNJ…
URL:https://nsadvocate.org/event/webinar-stop-the-federal-subsidy-for-goldboro-lng/
END:VEVENT
END:VCALENDAR