BEGIN:VCALENDAR
VERSION:2.0
PRODID:-//Nova Scotia Advocate - ECPv6.9.0//NONSGML v1.0//EN
CALSCALE:GREGORIAN
METHOD:PUBLISH
X-WR-CALNAME:Nova Scotia Advocate
X-ORIGINAL-URL:https://nsadvocate.org
X-WR-CALDESC:Events for Nova Scotia Advocate
REFRESH-INTERVAL;VALUE=DURATION:PT1H
X-Robots-Tag:noindex
X-PUBLISHED-TTL:PT1H
BEGIN:VTIMEZONE
TZID:America/Glace_Bay
BEGIN:DAYLIGHT
TZOFFSETFROM:-0400
TZOFFSETTO:-0300
TZNAME:ADT
DTSTART:20210314T060000
END:DAYLIGHT
BEGIN:STANDARD
TZOFFSETFROM:-0300
TZOFFSETTO:-0400
TZNAME:AST
DTSTART:20211107T050000
END:STANDARD
END:VTIMEZONE
BEGIN:VEVENT
DTSTART;TZID=America/Glace_Bay:20210512T190000
DTEND;TZID=America/Glace_Bay:20210512T203000
DTSTAMP:20260422T154118
CREATED:20210507T124829Z
LAST-MODIFIED:20210507T124847Z
UID:20769-1620846000-1620851400@nsadvocate.org
SUMMARY:Atlantic Book Awards Festival — Understanding Our Past: Exploring Nova Scotia’s history
DESCRIPTION:Writers have historically played an essential role in helping us understand our past\, allowing us to see who we are and how we got here. Author Lindsay Ruck (Amazing Black Atlantic Canadians: Inspiring stories of courage and achievement) will lead a discussion of this tradition through the lens of marginalized communities. Featured authors: \n\n\n\n– shalan joudry (Waking Ground)– Tyler LeBlanc (Acadian Driftwood: One Family and the Great Expulsion)– Rebecca Rose (Before the Parade: A History of Halifax’s Gay\, Lesbian\, and Bisexual Communities\, 1972–1984) \n\n\n\nPresented in partnership with the Writers’ Federation of Nova Scotia.Time 7 pm \n\n\n\nTo register: https://us02web.zoom.us/webinar/register/WN_–kBcFAUQNKhdmchfaQ3gA?t=1620391389489
URL:https://nsadvocate.org/event/atlantic-book-awards-festival-understanding-our-past-exploring-nova-scotias-history/
END:VEVENT
END:VCALENDAR