BEGIN:VCALENDAR
VERSION:2.0
PRODID:-//Nova Scotia Advocate - ECPv6.9.0//NONSGML v1.0//EN
CALSCALE:GREGORIAN
METHOD:PUBLISH
X-ORIGINAL-URL:https://nsadvocate.org
X-WR-CALDESC:Events for Nova Scotia Advocate
REFRESH-INTERVAL;VALUE=DURATION:PT1H
X-Robots-Tag:noindex
X-PUBLISHED-TTL:PT1H
BEGIN:VTIMEZONE
TZID:America/Glace_Bay
BEGIN:DAYLIGHT
TZOFFSETFROM:-0400
TZOFFSETTO:-0300
TZNAME:ADT
DTSTART:20210314T060000
END:DAYLIGHT
BEGIN:STANDARD
TZOFFSETFROM:-0300
TZOFFSETTO:-0400
TZNAME:AST
DTSTART:20211107T050000
END:STANDARD
END:VTIMEZONE
BEGIN:VEVENT
DTSTART;TZID=America/Glace_Bay:20210515T160000
DTEND;TZID=America/Glace_Bay:20210515T180000
DTSTAMP:20260422T122122
CREATED:20210512T194113Z
LAST-MODIFIED:20210512T194115Z
UID:20854-1621094400-1621101600@nsadvocate.org
SUMMARY:Nakba Catastrophe: 73 years of Palestinian resistance
DESCRIPTION:Here is the link to register: https://www.eventbrite.com/e/nakba-catastrophe-73-years-of-palestinian-resistance-tickets-154422119717  \n\n\n\nThe Zoom link will be sent to your email once you register. \n\n\n\nYou can also watch on our FB live stream at https://www.facebook.com/ACPalestinianSociety \n\n\n\nJoin us for an afternoon discussing the historical context of the Nakba and the ongoing effects of Israeli-settler colonialism on the Palestinian people. We will cover recent events In Sheikh Jarrah and Al-Aqsa compound\, Canada’s involvement in the Israeli-Palestinan conflict\, and ways you can take action. \n\n\n\nStay tuned for more updates on our guest speakers!
URL:https://nsadvocate.org/event/nakba-catastrophe-73-years-of-palestinian-resistance/
END:VEVENT
END:VCALENDAR