BEGIN:VCALENDAR
VERSION:2.0
PRODID:-//Nova Scotia Advocate - ECPv6.9.0//NONSGML v1.0//EN
CALSCALE:GREGORIAN
METHOD:PUBLISH
X-ORIGINAL-URL:https://nsadvocate.org
X-WR-CALDESC:Events for Nova Scotia Advocate
REFRESH-INTERVAL;VALUE=DURATION:PT1H
X-Robots-Tag:noindex
X-PUBLISHED-TTL:PT1H
BEGIN:VTIMEZONE
TZID:America/Glace_Bay
BEGIN:DAYLIGHT
TZOFFSETFROM:-0400
TZOFFSETTO:-0300
TZNAME:ADT
DTSTART:20210314T060000
END:DAYLIGHT
BEGIN:STANDARD
TZOFFSETFROM:-0300
TZOFFSETTO:-0400
TZNAME:AST
DTSTART:20211107T050000
END:STANDARD
END:VTIMEZONE
BEGIN:VEVENT
DTSTART;TZID=America/Glace_Bay:20210525T043000
DTEND;TZID=America/Glace_Bay:20210525T180000
DTSTAMP:20260422T202646
CREATED:20210523T201406Z
LAST-MODIFIED:20210523T201457Z
UID:21045-1621917000-1621965600@nsadvocate.org
SUMMARY:Equity Watch webinar: Good Bosses and Bad Bosses
DESCRIPTION:To register for this webinar\, click on https://zoom.us/webinar/register/WN_NCrnGKbzT5-Sbn16B53iVA 
URL:https://nsadvocate.org/event/equity-watch-webinar-good-bosses-and-bad-bosses/
END:VEVENT
BEGIN:VEVENT
DTSTART;TZID=America/Glace_Bay:20210525T183000
DTEND;TZID=America/Glace_Bay:20210525T200000
DTSTAMP:20260422T202646
CREATED:20210523T132507Z
LAST-MODIFIED:20210525T120234Z
UID:21042-1621967400-1621972800@nsadvocate.org
SUMMARY:Angela Bowden: Poetry reading
DESCRIPTION:Please register at email info@cehpubliclibrary.ca. The email address on the poster is imcomplete.
URL:https://nsadvocate.org/event/angela-bowden-poetry-reading/
END:VEVENT
BEGIN:VEVENT
DTSTART;TZID=America/Glace_Bay:20210525T190000
DTEND;TZID=America/Glace_Bay:20210525T210000
DTSTAMP:20260422T202646
CREATED:20210523T124350Z
LAST-MODIFIED:20210523T124503Z
UID:21021-1621969200-1621976400@nsadvocate.org
SUMMARY:Mayworks Kjipuktuk Halifax: Archives Continuum
DESCRIPTION:A digital storytelling project by Collective 2030\n\n\n\nIn collaboration with Restorying Climate Just Futures\n\n\n\nWebsite launch May 25th | Live online event – May 25th\, 7:00PM \n\n\n\n\n\n\n\nCOVID UPDATE:\n\n\n\nArchives Continuum is presented ONLINE and can be safely enjoyed from anywhere. \n\n\n\nCarmel Farahbakhsh | Cathy Martin | Shalan Joudry | Calen Sack \n\n\n\nMichelle Sylliboy | Liliona Quarmyne | Tayla Fern Paul\n\n\n\nRespondents:Sabrina Guzman SkotnitskySailaja KrishnamurtiJonathan LangdonShelley Price \n\n\n\nDesigner:Daren Okafo \n\n\n\nCollective 2030 engages in imagining\, designing\, dreaming their recurrent futures through a multidisciplinary and intergenerational storytelling lens in “Archives Continuum”. Catalyzed and unified through themes of multi-generational and time-cyclical communication\, memory keeping\, and relationship to land and water — each artist facilitates a response that weaves a dynamic narrative and desire to radically redesign the world as we know it. \n\n\n\nLIVE ONLINE Event:\n\n\n\nOn May 25th at 7:00 PM \n\n\n\nRegister here:https://us02web.zoom.us/meeting/register/tZYvd-mrqjgpGNHpAFwhqDlZ7Ld0rd-yjc0K \n\n\n\nExplore layers of the archive with Collective 2030 on a facilitated Zoom call. \n\n\n\nExplore the website that houses powerful pieces created by the artists. Spend individual and collective time discovering their work\, and experiencing their impact on the respondents. \n\n\n\nThen\, come together for a facilitated gathering that provides a space where open and intentional discussions can be held in regards to the very scary reality that we are heading towards climate disaster. This space is an honest acknowledgment on the current state of our planet\, while still holding room to be able to envision a new and better future for our environment.
URL:https://nsadvocate.org/event/archives-continuum/
END:VEVENT
END:VCALENDAR