BEGIN:VCALENDAR
VERSION:2.0
PRODID:-//Nova Scotia Advocate - ECPv6.9.0//NONSGML v1.0//EN
CALSCALE:GREGORIAN
METHOD:PUBLISH
X-ORIGINAL-URL:https://nsadvocate.org
X-WR-CALDESC:Events for Nova Scotia Advocate
REFRESH-INTERVAL;VALUE=DURATION:PT1H
X-Robots-Tag:noindex
X-PUBLISHED-TTL:PT1H
BEGIN:VTIMEZONE
TZID:America/Glace_Bay
BEGIN:DAYLIGHT
TZOFFSETFROM:-0400
TZOFFSETTO:-0300
TZNAME:ADT
DTSTART:20210314T060000
END:DAYLIGHT
BEGIN:STANDARD
TZOFFSETFROM:-0300
TZOFFSETTO:-0400
TZNAME:AST
DTSTART:20211107T050000
END:STANDARD
END:VTIMEZONE
BEGIN:VEVENT
DTSTART;TZID=America/Glace_Bay:20210610T180000
DTEND;TZID=America/Glace_Bay:20210610T190000
DTSTAMP:20260422T120300
CREATED:20210606T143130Z
LAST-MODIFIED:20210609T233501Z
UID:21288-1623348000-1623351600@nsadvocate.org
SUMMARY:Demand 10 on the 10th: 10 Permanent Paid Sick Days NOW!
DESCRIPTION:Facebook event page: https://www.facebook.com/events/499177324736838/ \n\n\n\nGather with a small group of your neighbours to push for 10 permanent paid sick days for workers in Nova Scotia. We will be organizing many simultaneous demonstrations at many locations throughout Nova Scotia on June 10th at 6pm. Fill out this form and we will match you up with 4-5 of your neighbours to be part of one of these protest pods. Sign up here: https://forms.gle/whhbZXPghd3XUf6X7 \n\n\n\n• West End Halifax (North St & Windsor)• North End Halifax (NW intersection of Robie & Young)• Dartmouth (Portland St. and Eisener Blvd.)• South End/Downtown (Sackville & Brunswick St)• Timberlea (TBD\, e-mail info@fightfor15halifax.ca)• Musquodoboit Harbour (East Petpeswick Rd & the 7)• New Glasgow (George St & Riverside Parkway)• Amherst (TBD\, e-mail info@fightfor15halifax.ca)• Sydney (TBD\, e-mail info@fightfor15halifax.ca) \n\n\n\nLow wage\, frontline workers have carried us through this pandemic: making the most sacrifices and taking the most risk. But these workers are barely scraping by\, and many cannot afford to miss work\, even when they feel sick. The provincial government’s solution – four temporary sick days paid by the province – is a short-term measure for a long term problem. If living with COVID is to be our reality going forward\, then 10 paid sick days must be a permanent fixture to protect workers and their families. \n\n\n\n*** Sign up to join a protest pod here: https://forms.gle/whhbZXPghd3XUf6X7**** \n\n\n\nWhether it is workers in part-time employment trying to string together multiple jobs in order to make ends meet\, or workers without paid sick days who can’t stay home from work at the first sign of symptoms because they can’t afford to lose pay\, fair wages and paid sick days must be central in how we face living with COVID\, Influenza\, and other deadly infectious diseases.The evidence shows paid sick days are effective at curbing transmission of infectious disease\, including COVID-19.•Yet\, 58% of workers across Canada have no paid sick days\, and that jumps to over 70% of low-income workers \n\n\n\n• Even 75% of workers in the service sector\, including food services\, and 50% in health & social services sectors where the risk of exposure is highest\, have no paid sick days.• No one should have to choose between staying home sick & paying the bills• Black\, Indigenous\, and workers of colour are over-represented in low-wage\, frontline work & are most at risk of becoming infected \n\n\n\nWe hear a lot about thanking essential workers\, but why is the government not protecting them with paid sick days?The CRSB has been widely criticized as inadequate to meeting the challenges presented by COVID-19. Ten employer-paid sick days a year are needed to ensure that no worker experiences a disruption in their pay by staying home when sick. \n\n\n\nNOTE: Protest Pods should still be socially distanced and wear masks.
URL:https://nsadvocate.org/event/demand-10-on-the-10th-10-permanent-paid-sick-days-now/
END:VEVENT
BEGIN:VEVENT
DTSTART;TZID=America/Glace_Bay:20210610T190000
DTEND;TZID=America/Glace_Bay:20210610T210000
DTSTAMP:20260422T120300
CREATED:20210609T193146Z
LAST-MODIFIED:20210609T193147Z
UID:21343-1623351600-1623358800@nsadvocate.org
SUMMARY:Islamophobia kills\, online teach-in
DESCRIPTION:Online: instagram.com \n\n\n\nFacebook event page: https://www.facebook.com/events/857320584992851/
URL:https://nsadvocate.org/event/islamophobia-kills-online-teach-in/
END:VEVENT
END:VCALENDAR