BEGIN:VCALENDAR
VERSION:2.0
PRODID:-//Nova Scotia Advocate - ECPv6.9.0//NONSGML v1.0//EN
CALSCALE:GREGORIAN
METHOD:PUBLISH
X-ORIGINAL-URL:https://nsadvocate.org
X-WR-CALDESC:Events for Nova Scotia Advocate
REFRESH-INTERVAL;VALUE=DURATION:PT1H
X-Robots-Tag:noindex
X-PUBLISHED-TTL:PT1H
BEGIN:VTIMEZONE
TZID:America/Glace_Bay
BEGIN:DAYLIGHT
TZOFFSETFROM:-0400
TZOFFSETTO:-0300
TZNAME:ADT
DTSTART:20210314T060000
END:DAYLIGHT
BEGIN:STANDARD
TZOFFSETFROM:-0300
TZOFFSETTO:-0400
TZNAME:AST
DTSTART:20211107T050000
END:STANDARD
END:VTIMEZONE
BEGIN:VEVENT
DTSTART;TZID=America/Glace_Bay:20210613T150000
DTEND;TZID=America/Glace_Bay:20210613T160000
DTSTAMP:20260422T084230
CREATED:20210612T141047Z
LAST-MODIFIED:20210612T141135Z
UID:21380-1623596400-1623600000@nsadvocate.org
SUMMARY:Solidarity Vigil
DESCRIPTION:Facebook event page: https://www.facebook.com/events/300581025048080/ \n\n\n\nVigil Of Solidarity \n\n\n\nWe stand with #OurLondonFamily #FayazImWithYou and all Muslims across Canada \n\n\n\nThe news of the horrific terrorist attack that took away the lives of 4 Pakistani Muslims and left a little boy severely injured and orphaned has deeply affected us all. \n\n\n\nThe Human Rights Coalition is inviting everyone to come together to stand in solidarity against Islamophobia and hatred and demand a plan of action to fight it! Everyone is invited to participate in an ONLINE vigil to be held on Sunday June 13th from 4pm-5pm which will be live-streamed. \n\n\n\nIt will begin with a wreath laying ceremony and a message from the Pakistani Canadian Association of Nova Scotia. Followed by speakers from various organizations sharing their messages of solidarity.We are honored to have as guest speakers Miꞌkmaq Elder Billy Lewis  \n\n\n\nPakistani Canadian Association of Nova Scotia\,Nova Scotia Voice of Women for Peace\, Joan SmithIndependent Jewish Voices\, Judy HaivenBlack Lives Matter\, El JonesHong Kong Link\, Joshua Wong \n\n\n\nEveryone is invited to participate in an online vigil by tying a green ribbon outside their homes. And follow the event being live streamed from the page link below.
URL:https://nsadvocate.org/event/solidarity-vigil/
END:VEVENT
END:VCALENDAR