BEGIN:VCALENDAR
VERSION:2.0
PRODID:-//Nova Scotia Advocate - ECPv6.9.0//NONSGML v1.0//EN
CALSCALE:GREGORIAN
METHOD:PUBLISH
X-ORIGINAL-URL:https://nsadvocate.org
X-WR-CALDESC:Events for Nova Scotia Advocate
REFRESH-INTERVAL;VALUE=DURATION:PT1H
X-Robots-Tag:noindex
X-PUBLISHED-TTL:PT1H
BEGIN:VTIMEZONE
TZID:America/Glace_Bay
BEGIN:DAYLIGHT
TZOFFSETFROM:-0400
TZOFFSETTO:-0300
TZNAME:ADT
DTSTART:20210314T060000
END:DAYLIGHT
BEGIN:STANDARD
TZOFFSETFROM:-0300
TZOFFSETTO:-0400
TZNAME:AST
DTSTART:20211107T050000
END:STANDARD
END:VTIMEZONE
BEGIN:VEVENT
DTSTART;TZID=America/Glace_Bay:20210620T140000
DTEND;TZID=America/Glace_Bay:20210620T150000
DTSTAMP:20260422T101545
CREATED:20210615T131904Z
LAST-MODIFIED:20210615T132241Z
UID:21436-1624197600-1624201200@nsadvocate.org
SUMMARY:RALLY Against the Housing Crisis!
DESCRIPTION:Facebook event page: https://www.facebook.com/events/614614466597683/ \n\n\n\nThe housing crisis is spiralling out of control. We’re seeing an exponential increase in people forced onto the street. Meanwhile\, average residents of HRM who remain housed find their rent soaring to unsustainable levels. This cannot continue. \n\n\n\nMeanwhile\, politicians refuse to help in a meaningful way. Not only do some politicians pass the buck on positive action\, they also use their power to attack the band-aid solutions to the crisis that groups like Halifax Mutual Aid (HMA) offer. \n\n\n\nHRM has been maneuvering to destroy volunteer-built crisis shelters\, which continue to be a lifeline for people experiencing houselessness. As HMA’s waitlist for shelters grows (along with people forced onto the street)\, HRM attacks the homeless instead of the housing crisis. \n\n\n\nWe ask you to lend your voice to the chorus of caring and concerned residents of HRM to tell the city government this: \n\n\n\n“Stay out of the way if you can’t lend a hand.” \n\n\n\nPlease join us Sunday June 20th\, 2pm at the Old Central Library in Downtown Halifax.
URL:https://nsadvocate.org/event/rally-against-the-housing-crisis/
END:VEVENT
BEGIN:VEVENT
DTSTART;TZID=America/Glace_Bay:20210620T160000
DTEND;TZID=America/Glace_Bay:20210620T200000
DTSTAMP:20260422T101545
CREATED:20210613T190431Z
LAST-MODIFIED:20210613T190433Z
UID:21405-1624204800-1624219200@nsadvocate.org
SUMMARY:Change the game: Strike! The game of worker rebellion
DESCRIPTION:FAcebook event page: https://www.facebook.com/events/1209989232752046/ \n\n\n\nTickets: thederbyshowbar.ca/event-directory \n\n\n\nStrike! the Game of Worker Rebellion \n\n\n\nAn afternoon of radical co-operative board games \n\n\n\n$60 for a Table of 4**GAME INCLUDED!** \n\n\n\nThis boardame afternoon will be preceded by a quick how-to-play presentation. You can stay one round\, or two\, or more! Just take note that music at The Derby will begin around 7:00PM. Tables can be booked for two to four players and the registration cost *includes the game itself*. You play with a brand new game which will not have been handled by anyone else\, and get to **take the game with you after! \n\n\n\n**STRIKE! THE GAME OF WORKER REBELLION \n\n\n\nHappyCorp has just unleashed its most diabolical plan yet: turning Mercury City into an entirely corporate-run metropolis. There will be no more minimum wage\, no more public services\, and no more unions. HappyCorp has already begun unleashing its Smile Drones to convert the city’s infrastructure\, crush protests\, and ensure every resident watches its Commercial Breaks. Players take on the role of the Strike Council to lead a city-wide rebellion against HappyCorp’s takeover\, while also fighting for better livelihoods for all. \n\n\n\nStrike! is a co-operative game for 2-4 players and takes roughly 45-60 minutes to play. Ages 12+ \n\n\n\nPublic Health \n\n\n\nPublic Health Guidelines will be strictly enforced to ensure everyone’s safety and comfort. Please respect the venue’s instructions for masking\, distancing and travel. Stay home if you do not feel well!
URL:https://nsadvocate.org/event/change-the-game-strike-the-game-of-worker-rebellion/
END:VEVENT
END:VCALENDAR