BEGIN:VCALENDAR
VERSION:2.0
PRODID:-//Nova Scotia Advocate - ECPv6.9.0//NONSGML v1.0//EN
CALSCALE:GREGORIAN
METHOD:PUBLISH
X-ORIGINAL-URL:https://nsadvocate.org
X-WR-CALDESC:Events for Nova Scotia Advocate
REFRESH-INTERVAL;VALUE=DURATION:PT1H
X-Robots-Tag:noindex
X-PUBLISHED-TTL:PT1H
BEGIN:VTIMEZONE
TZID:America/Glace_Bay
BEGIN:DAYLIGHT
TZOFFSETFROM:-0400
TZOFFSETTO:-0300
TZNAME:ADT
DTSTART:20210314T060000
END:DAYLIGHT
BEGIN:STANDARD
TZOFFSETFROM:-0300
TZOFFSETTO:-0400
TZNAME:AST
DTSTART:20211107T050000
END:STANDARD
END:VTIMEZONE
BEGIN:VEVENT
DTSTART;TZID=America/Glace_Bay:20210622T163000
DTEND;TZID=America/Glace_Bay:20210622T180000
DTSTAMP:20260422T122005
CREATED:20210530T192646Z
LAST-MODIFIED:20210530T192648Z
UID:21169-1624379400-1624384800@nsadvocate.org
SUMMARY:Equity Watch webinar: Representing yourself at the Human Rights Commission and the Courts: For when you can’t afford a lawyer
DESCRIPTION:To register for this webinar\, go to https://zoom.us/webinar/register/WN_sBrBt9taSSq_1BlPJ36vJw
URL:https://nsadvocate.org/event/equity-watch-webinar-representing-yourself-at-the-human-rights-commission-and-the-courts-for-when-you-cant-afford-a-lawyer/
END:VEVENT
END:VCALENDAR