BEGIN:VCALENDAR
VERSION:2.0
PRODID:-//Nova Scotia Advocate - ECPv6.9.0//NONSGML v1.0//EN
CALSCALE:GREGORIAN
METHOD:PUBLISH
X-WR-CALNAME:Nova Scotia Advocate
X-ORIGINAL-URL:https://nsadvocate.org
X-WR-CALDESC:Events for Nova Scotia Advocate
REFRESH-INTERVAL;VALUE=DURATION:PT1H
X-Robots-Tag:noindex
X-PUBLISHED-TTL:PT1H
BEGIN:VTIMEZONE
TZID:America/Glace_Bay
BEGIN:DAYLIGHT
TZOFFSETFROM:-0400
TZOFFSETTO:-0300
TZNAME:ADT
DTSTART:20210314T060000
END:DAYLIGHT
BEGIN:STANDARD
TZOFFSETFROM:-0300
TZOFFSETTO:-0400
TZNAME:AST
DTSTART:20211107T050000
END:STANDARD
END:VTIMEZONE
BEGIN:VEVENT
DTSTART;TZID=America/Glace_Bay:20210626T170000
DTEND;TZID=America/Glace_Bay:20210626T180000
DTSTAMP:20260422T084540
CREATED:20210626T130425Z
LAST-MODIFIED:20210626T130426Z
UID:21569-1624726800-1624730400@nsadvocate.org
SUMMARY:Emergency rally for Palestine
DESCRIPTION:Today\, Saturday\, June 26 at 5pm\, an Emergency Rally for Palestine is being held. At Halifax’s Grand Parade Square\, Free Palestine Halifax and activists will be calling on the media in Halifax to commit to fair coverage of Palestine and the federal government of Canada to stop selling weapons that are being used to harm and kill Palestinian civilians. We call for the right to self determination\, and the right to sovereign rights in a supposed democratic state. \n\n\n\nThe discussion will feature speakers from the Indigenous\, Atlantic Palestinian\, and Black communities; discussing the connections and intersections of the fight for human rights.  \n\n\n\n Elder Billy and Joan Smith will be leading the welcoming ceremony. Their generous support for Palestine reinforces the need for respect and acknowledgement that this rally takes place on the unceded and unsurrendered territory of the Mi’kmaq peoples. \n\n\n\nAyman Awad\, an outspoken advocate for queer Arab rights\, will represent Free Palestine Halifax. \n\n\n\nDana Elborno\, a young Palestinian activist\, will be representing Atlantic Canada’s Palestinian Society. \n\n\n\nLarry Haiven\, an academic and Palestinian rights activist\, will be representing Independent Jewish Voices. \n\n\n\nEl Jones\, poet laureate and community activist\, will be representing herself. \n\n\n\nCOVID-19 restrictions are limiting the initial rally to 75 people\, and Free Palestine Halifax will be collecting the names of the first 75 attendees. This information will not be provided to authorities\, but is being collected according to COVID protocol.  \n\n\n\nMasks and social distancing will be in place\, as well as additional requirements of phase 2 reopening under Nova Scotia’s Health Authority.
URL:https://nsadvocate.org/event/emergency-rally-for-palestine/
END:VEVENT
END:VCALENDAR