BEGIN:VCALENDAR
VERSION:2.0
PRODID:-//Nova Scotia Advocate - ECPv6.9.0//NONSGML v1.0//EN
CALSCALE:GREGORIAN
METHOD:PUBLISH
X-ORIGINAL-URL:https://nsadvocate.org
X-WR-CALDESC:Events for Nova Scotia Advocate
REFRESH-INTERVAL;VALUE=DURATION:PT1H
X-Robots-Tag:noindex
X-PUBLISHED-TTL:PT1H
BEGIN:VTIMEZONE
TZID:America/Glace_Bay
BEGIN:DAYLIGHT
TZOFFSETFROM:-0400
TZOFFSETTO:-0300
TZNAME:ADT
DTSTART:20210314T060000
END:DAYLIGHT
BEGIN:STANDARD
TZOFFSETFROM:-0300
TZOFFSETTO:-0400
TZNAME:AST
DTSTART:20211107T050000
END:STANDARD
END:VTIMEZONE
BEGIN:VEVENT
DTSTART;TZID=America/Glace_Bay:20210629T180000
DTEND;TZID=America/Glace_Bay:20210629T200000
DTSTAMP:20260422T220122
CREATED:20210620T213626Z
LAST-MODIFIED:20210620T213648Z
UID:21500-1624989600-1624996800@nsadvocate.org
SUMMARY:Fight for $15 and Fairness Virtual Rebranding Forum
DESCRIPTION:Facebook event page: https://www.facebook.com/events/1276139129467208/ \n\n\n\nJoin us for a virtual forum on the direction of our campaign. We will be discussing whether it’s time to increase our demand from a $15 minimum wage to a living wage\, a $20 minimum wage\, some other figure\, or to continue to fight for $15. \n\n\n\nThis event is open to all workers interested in the campaign and all allies to the campaign. We want to hear from you! \n\n\n\nJoin Zoom Meetinghttps://zoom.us/j/91546065560…
URL:https://nsadvocate.org/event/fight-for-15-and-fairness-virtual-rebranding-forum/
END:VEVENT
END:VCALENDAR