BEGIN:VCALENDAR
VERSION:2.0
PRODID:-//Nova Scotia Advocate - ECPv6.9.0//NONSGML v1.0//EN
CALSCALE:GREGORIAN
METHOD:PUBLISH
X-WR-CALNAME:Nova Scotia Advocate
X-ORIGINAL-URL:https://nsadvocate.org
X-WR-CALDESC:Events for Nova Scotia Advocate
REFRESH-INTERVAL;VALUE=DURATION:PT1H
X-Robots-Tag:noindex
X-PUBLISHED-TTL:PT1H
BEGIN:VTIMEZONE
TZID:America/Glace_Bay
BEGIN:DAYLIGHT
TZOFFSETFROM:-0400
TZOFFSETTO:-0300
TZNAME:ADT
DTSTART:20210314T060000
END:DAYLIGHT
BEGIN:STANDARD
TZOFFSETFROM:-0300
TZOFFSETTO:-0400
TZNAME:AST
DTSTART:20211107T050000
END:STANDARD
END:VTIMEZONE
BEGIN:VEVENT
DTSTART;TZID=America/Glace_Bay:20210701T130000
DTEND;TZID=America/Glace_Bay:20210701T150000
DTSTAMP:20260422T065704
CREATED:20210629T114944Z
LAST-MODIFIED:20210629T161653Z
UID:21599-1625144400-1625151600@nsadvocate.org
SUMMARY:On Canada Day\, let's read from the Truth and Reconciliation Report
DESCRIPTION:Facebook event page: https://www.facebook.com/events/271404271412416 \n\n\n\nUnmarked graves of more than 1000 Indigenous children have been detected across Canada and more are expected. Weather permitting\, we’re going to mark Canada Day by getting together to read selections from the Truth and Reconciliation Report “What We Have Learned”. Bring yourself; bring a chair. Appropriately masked and distanced\, let’s learn together. \n\n\n\nAt the south end of Victoria Park\, by the fountain
URL:https://nsadvocate.org/event/21599/
END:VEVENT
END:VCALENDAR