BEGIN:VCALENDAR
VERSION:2.0
PRODID:-//Nova Scotia Advocate - ECPv6.9.0//NONSGML v1.0//EN
CALSCALE:GREGORIAN
METHOD:PUBLISH
X-ORIGINAL-URL:https://nsadvocate.org
X-WR-CALDESC:Events for Nova Scotia Advocate
REFRESH-INTERVAL;VALUE=DURATION:PT1H
X-Robots-Tag:noindex
X-PUBLISHED-TTL:PT1H
BEGIN:VTIMEZONE
TZID:America/Glace_Bay
BEGIN:DAYLIGHT
TZOFFSETFROM:-0400
TZOFFSETTO:-0300
TZNAME:ADT
DTSTART:20210314T060000
END:DAYLIGHT
BEGIN:STANDARD
TZOFFSETFROM:-0300
TZOFFSETTO:-0400
TZNAME:AST
DTSTART:20211107T050000
END:STANDARD
END:VTIMEZONE
BEGIN:VEVENT
DTSTART;TZID=America/Glace_Bay:20210712T120000
DTEND;TZID=America/Glace_Bay:20210712T153000
DTSTAMP:20260422T084205
CREATED:20210709T181936Z
LAST-MODIFIED:20210709T181937Z
UID:21730-1626091200-1626103800@nsadvocate.org
SUMMARY:Citizen Science Event at Sandy Lake and Marsh Lake
DESCRIPTION:Facebook event page: https://www.facebook.com/events/358613355642583/ \n\n\n\nJoin us for an afternoon at Sandy Lake Beach\, we are hosting an interpretive event for the final day of our Treasured Wetlands Bioblitz 2021. All are welcome from 12:00 – 3:30 pm on Monday July 12th\, 2021. \n\n\n\nTake a peek into our specimen collection with the Shubenacadie Wildlife Park. Come learn about the importance of our wetlands\, our species at risk\, and what you can do to help!If you’re feeling extra adventurous register for the guided hike up to Marsh Lake at 1:30pm! Register soon as spots are limited. Click the link to register and to learn more about the guided hike.https://forms.gle/t3vHbrbBvViD92HL7 \n\n\n\nMarsh Lake is featured as a new Treasured Wetland for 2021! This site is important because it is surrounded by a healthy\, diverse ecosystem and is home to many reptiles\, amphibians\, and turtles. Not to mention the Atlantic Salmon\, American Eel\, and variety of waterfowl that have been found here.We hope to see you there! 
URL:https://nsadvocate.org/event/citizen-science-event-at-sandy-lake-and-marsh-lake/
END:VEVENT
END:VCALENDAR