BEGIN:VCALENDAR
VERSION:2.0
PRODID:-//Nova Scotia Advocate - ECPv6.9.0//NONSGML v1.0//EN
CALSCALE:GREGORIAN
METHOD:PUBLISH
X-ORIGINAL-URL:https://nsadvocate.org
X-WR-CALDESC:Events for Nova Scotia Advocate
REFRESH-INTERVAL;VALUE=DURATION:PT1H
X-Robots-Tag:noindex
X-PUBLISHED-TTL:PT1H
BEGIN:VTIMEZONE
TZID:America/Glace_Bay
BEGIN:DAYLIGHT
TZOFFSETFROM:-0400
TZOFFSETTO:-0300
TZNAME:ADT
DTSTART:20210314T060000
END:DAYLIGHT
BEGIN:STANDARD
TZOFFSETFROM:-0300
TZOFFSETTO:-0400
TZNAME:AST
DTSTART:20211107T050000
END:STANDARD
END:VTIMEZONE
BEGIN:VEVENT
DTSTART;TZID=America/Glace_Bay:20210717T110000
DTEND;TZID=America/Glace_Bay:20210717T123000
DTSTAMP:20260422T083715
CREATED:20210704T191545Z
LAST-MODIFIED:20210704T191548Z
UID:21666-1626519600-1626525000@nsadvocate.org
SUMMARY:ACORN Dartmouth Chapter Meeting
DESCRIPTION:Facebook event page: https://www.facebook.com/events/192402592772778 \n\n\n\nJoin us for our Dartmouth organizing meeting!We’re getting organized for the next steps in our rent control and landlord licensing campaigns\, as well as the minimum wage and raising assistance rates! \n\n\n\nJoin at https://bit.ly/NSACORN
URL:https://nsadvocate.org/event/acorn-dartmouth-chapter-meeting/
END:VEVENT
BEGIN:VEVENT
DTSTART;TZID=America/Glace_Bay:20210717T120000
DTEND;TZID=America/Glace_Bay:20210717T170000
DTSTAMP:20260422T083715
CREATED:20210709T184644Z
LAST-MODIFIED:20210709T184645Z
UID:21736-1626523200-1626541200@nsadvocate.org
SUMMARY:TAKIN' BLK GOTTINGEN MARKET
DESCRIPTION:Facebook event page: https://www.facebook.com/events/407836784221669/ \n\n\n\nIt’s that’s time of the year again! TAKIN’ BLK GOTTINGEN Market! Takin’ BLK is excited to Partner with the North end Business Association to bring 20+ Black Businesses to store fronts along Historic Gottingen st.This Family event will bring together local vendors\, local musical entertainment\, DJs and a chance to socialize with community\, family\, and friends and We’re excited to see you again!
URL:https://nsadvocate.org/event/takin-blk-gottingen-market/
END:VEVENT
BEGIN:VEVENT
DTSTART;TZID=America/Glace_Bay:20210717T130000
DTEND;TZID=America/Glace_Bay:20210717T140000
DTSTAMP:20260422T083715
CREATED:20210717T130239Z
LAST-MODIFIED:20210717T130239Z
UID:21813-1626526800-1626530400@nsadvocate.org
SUMMARY:Rally calls for reparations and compensation for slavery
DESCRIPTION:KJIPUKTUK (Halifax) – The subject of reparations for the enslavement of the African is a topic most governments the world over\, and including Canada\, do not want to touch. Even those said to be open minded and concerned with the well being of mankind seem to run from the subject of reparations and compensation for the descendants of African people forced into slavery.  \n\n\n\nWhereas all North American governments and others profited of the enslavement of the African\, reparations to the descendants of those forced into slavery should be a no brainer.  \n\n\n\nThe rape of Africa\, the theft and enslavement of the African\, the worst crime against humanity\, has never been given due process under international law because of racism in law and within governments and their lack of respect and what they seem to truly believe about race and equality and the value of human suffering.  \n\n\n\nGovernments and major companies in Canada made an estimated 50 trillion dollars from slavery in Canada\, and with the so called end of slavery reparations were paid to slave owners\, but not to those forced into slavery nor their descendants. \n\n\n\nBlack Lives Matter\, and based on the above a rally will be held on July 17\, 2021\, at 1PM at the Peace and Friendship Park\, across from the Westin Hotel in downtown Halifax. \n\n\n\nYour attendance is crucial and respectfully encouraged!
URL:https://nsadvocate.org/event/rally-calls-for-reparations-and-compensation-for-slavery/
END:VEVENT
END:VCALENDAR