BEGIN:VCALENDAR
VERSION:2.0
PRODID:-//Nova Scotia Advocate - ECPv6.9.0//NONSGML v1.0//EN
CALSCALE:GREGORIAN
METHOD:PUBLISH
X-ORIGINAL-URL:https://nsadvocate.org
X-WR-CALDESC:Events for Nova Scotia Advocate
REFRESH-INTERVAL;VALUE=DURATION:PT1H
X-Robots-Tag:noindex
X-PUBLISHED-TTL:PT1H
BEGIN:VTIMEZONE
TZID:America/Glace_Bay
BEGIN:DAYLIGHT
TZOFFSETFROM:-0400
TZOFFSETTO:-0300
TZNAME:ADT
DTSTART:20210314T060000
END:DAYLIGHT
BEGIN:STANDARD
TZOFFSETFROM:-0300
TZOFFSETTO:-0400
TZNAME:AST
DTSTART:20211107T050000
END:STANDARD
END:VTIMEZONE
BEGIN:VEVENT
DTSTART;TZID=America/Glace_Bay:20210721T130000
DTEND;TZID=America/Glace_Bay:20210721T140000
DTSTAMP:20260422T120331
CREATED:20210721T125824Z
LAST-MODIFIED:20210721T125826Z
UID:21859-1626872400-1626876000@nsadvocate.org
SUMMARY:Media release: The candidates speak. Where do they stand on open-net fish farms?
DESCRIPTION:All four Chester-St. Margaret’s MLA candidates invited  \n\n\n\nWednesday\, July 21st 2PM  \n\n\n\nBlandford Community Centre  \n\n\n\nBlandford\, NS  \n\n\n\nTo meet a regulatory requirement to consult the community\, many years after they already quadrupled  the size of their Bayswater fish farm lease\, on July 21 from 1-8pm at the Blandford Community Centre  Cooke Aquaculture is holding an “open house.” They will be selling residents retroactively on a lease  expansion they already accomplished and have been profiting from for years. Citing Covid rules which  do not exist\, they are restricting the number of visitors to the so- called “open house” to 15 people in 45  minute increments. They are redefining the term “open house.”   \n\n\n\nIn response\, the all-volunteer Twin Bays Coalition (St. Margaret’s and Mahone Bays) and the  provincewide Healthy Bays Network are inviting the public and the media to join us for a truly “open” discussion outside the Centre at 2pm. Speakers will be the four declared candidates currently running to  represent the provincial riding of Chester-St. Margaret’s in the next provincial legislature. They will  declare and defend their positions regarding open-net pens in Nova Scotia’s coastal waters.   \n\n\n\nThe candidates are:  \n\n\n\n• Jessica Alexander\, Greens (confirmed)  \n\n\n\n• Danielle Barkhouse\, Progressive Conservatives (confirmed)  \n\n\n\n• Jacob Killawee\, Liberals  \n\n\n\n• Amy Reitsma\, New Democrats (confirmed) 
URL:https://nsadvocate.org/event/media-release-the-candidates-speak-where-do-they-stand-on-open-net-fish-farms/
END:VEVENT
BEGIN:VEVENT
DTSTART;TZID=America/Glace_Bay:20210721T190000
DTEND;TZID=America/Glace_Bay:20210721T203000
DTSTAMP:20260422T120331
CREATED:20210718T195205Z
LAST-MODIFIED:20210718T195727Z
UID:21827-1626894000-1626899400@nsadvocate.org
SUMMARY:Going Live re. Dental Care for All
DESCRIPTION:Facebook event page: https://www.facebook.com/events/235633415058490 \n\n\n\nWe’re going live to talk about dental care for all! \n\n\n\nMany Canadians can’t afford dental care\, and this huge gap in our healthcare system can lead to devastating health effects. But the NDP has a plan to make basic dental care accessible for everyone. \n\n\n\nI’m happy to be welcoming not one but two expert guests this week:Dr. Hasan Sheikh is an emergency and addictions physician in Toronto and the Vice-Chair of Canadian Doctors for Medicare. He is a lecturer at the University of Toronto Department of Family and Community Medicine\, and holds a Masters in Public Administration from the Harvard Kennedy School of Government. \n\n\n\nDr. Brandon Doucet is a dentist practicing in Nova Scotia\, with interests in surgery and public health and is a founding member of the Coalition for Dentalcare.
URL:https://nsadvocate.org/event/going-live-re-dental-care-for-all/
END:VEVENT
END:VCALENDAR