BEGIN:VCALENDAR
VERSION:2.0
PRODID:-//Nova Scotia Advocate - ECPv6.9.0//NONSGML v1.0//EN
CALSCALE:GREGORIAN
METHOD:PUBLISH
X-ORIGINAL-URL:https://nsadvocate.org
X-WR-CALDESC:Events for Nova Scotia Advocate
REFRESH-INTERVAL;VALUE=DURATION:PT1H
X-Robots-Tag:noindex
X-PUBLISHED-TTL:PT1H
BEGIN:VTIMEZONE
TZID:America/Glace_Bay
BEGIN:DAYLIGHT
TZOFFSETFROM:-0400
TZOFFSETTO:-0300
TZNAME:ADT
DTSTART:20210314T060000
END:DAYLIGHT
BEGIN:STANDARD
TZOFFSETFROM:-0300
TZOFFSETTO:-0400
TZNAME:AST
DTSTART:20211107T050000
END:STANDARD
END:VTIMEZONE
BEGIN:VEVENT
DTSTART;TZID=America/Glace_Bay:20210727T120000
DTEND;TZID=America/Glace_Bay:20210727T130000
DTSTAMP:20260422T002109
CREATED:20210725T211049Z
LAST-MODIFIED:20210725T211059Z
UID:21909-1627387200-1627390800@nsadvocate.org
SUMMARY:People Power vs. Goldboro LNG
DESCRIPTION:Facebook event page: https://www.facebook.com/events/1210074819440628/  \n\n\n\n(Registration required via zoom link!)  Online: us02web.zoom.us \n\n\n\nHosted by the Council of Canadians but brought to you by people and organizations who have fought against this project for years\, you are invited to a going-away party for Pieridae Energy! Countless activists\, organizers and community members like yourself have been looking forward to this party for over 8 years.This is your win! Each and every action you took has made this possible.Come celebrate this win with us! Every action for climate justice\, every Indigenous-led effort to defend the land and people from this project\, every local group organizing and educating their community about climate justice\, every letter and phone call pushing on politicians to reject this project – all of this work has led us to where we are now. \n\n\n\nThis is an incredible victory for the climate justice movement that works tirelessly to organize for an intentional and justice-based shift from fossil fuels to renewables and energy efficiency. \n\n\n\nJoin us on July 27th at 12:30 p.m. NT / 12 p.m. AT / 11 a.m. ET / 10 a.m. CT / 9 a.m. MT / 8 a.m. PT (or 5 p.m. CET\, for our German allies in this fight) to celebrate this victory for the climate and our communities. Let’s honour the work it took to get us here and look to the future of our movement. \n\n\n\nHear from activists and organizers who were central to the organizing\, research\, advocacy\, and public education it took to make it impossible for Pieridae to get this dangerous project off the ground.We hope you’ll join us! More information about the project and the fight here: https://canadians.org/…/win-pieridae-energy-gives…
URL:https://nsadvocate.org/event/people-power-vs-goldboro-lng/
END:VEVENT
END:VCALENDAR