BEGIN:VCALENDAR
VERSION:2.0
PRODID:-//Nova Scotia Advocate - ECPv6.9.0//NONSGML v1.0//EN
CALSCALE:GREGORIAN
METHOD:PUBLISH
X-ORIGINAL-URL:https://nsadvocate.org
X-WR-CALDESC:Events for Nova Scotia Advocate
REFRESH-INTERVAL;VALUE=DURATION:PT1H
X-Robots-Tag:noindex
X-PUBLISHED-TTL:PT1H
BEGIN:VTIMEZONE
TZID:America/Glace_Bay
BEGIN:DAYLIGHT
TZOFFSETFROM:-0400
TZOFFSETTO:-0300
TZNAME:ADT
DTSTART:20210314T060000
END:DAYLIGHT
BEGIN:STANDARD
TZOFFSETFROM:-0300
TZOFFSETTO:-0400
TZNAME:AST
DTSTART:20211107T050000
END:STANDARD
END:VTIMEZONE
BEGIN:VEVENT
DTSTART;TZID=America/Glace_Bay:20210729T113000
DTEND;TZID=America/Glace_Bay:20210729T123000
DTSTAMP:20260421T222415
CREATED:20210729T135422Z
LAST-MODIFIED:20210729T135423Z
UID:21956-1627558200-1627561800@nsadvocate.org
SUMMARY:Canada on Fire Climate Day of Action
DESCRIPTION:Facebook event page: https://www.facebook.com/events/243397774286650 \n\n\n\nKody Blois Constituency Office 101-24 Harbourside Dr\, Wolfville\, Nova Scotia\, B4P 2C1\, Canada \n\n\n\nWe’ll gather outside MP Kody Blois’ constituency office at 11:30 am to demand government action on the climate emergency that has never been more clear. We will be joining others across Canada in demanding a moratorium on all new and in-progress fossil fuel related projects\, as well as Just Transition legislation that will transform the Canadian economy to address systemic inequities while creating the infrastructure needed to mitigate and adapt to climate change. This is also called a Green New Deal\, which is being pushed for around the world! We can’t wait. Please bring a mask for covid-safety and be ready to social distance. Please also bring props to help make our message clear such as fire extinguishers\, N-95 masks\, posters\, songs and any other on-message creative contributions. This is a large climate-caring community and the only action in Nova Scotia so far\, so let’s aim for big numbers. Can we fill the whole back parking lot? Please share online and in person widely!
URL:https://nsadvocate.org/event/canada-on-fire-climate-day-of-action/
END:VEVENT
BEGIN:VEVENT
DTSTART;TZID=America/Glace_Bay:20210729T180000
DTEND;TZID=America/Glace_Bay:20210729T193000
DTSTAMP:20260421T222415
CREATED:20210729T135842Z
LAST-MODIFIED:20210729T135853Z
UID:21960-1627581600-1627587000@nsadvocate.org
SUMMARY:ACORN NS Halifax-Peninsula Chapter Meeting
DESCRIPTION:Facebook event page: https://www.facebook.com/events/1158397264669691 \n\n\n\nJoin us for our Halifax-Peninsula chapter meeting! \n\n\n\nWe’re getting organized for the next steps in our rent control and landlord licensing campaigns\, as well as the minimum wage and raising assistance rates! \n\n\n\nJoin at https://bit.ly/NSACORNQuestions?  \n\n\n\nEmail halifax@acorncanada.org
URL:https://nsadvocate.org/event/halifax-peninsula-chapter-meeting-3/
END:VEVENT
END:VCALENDAR