BEGIN:VCALENDAR
VERSION:2.0
PRODID:-//Nova Scotia Advocate - ECPv6.9.0//NONSGML v1.0//EN
CALSCALE:GREGORIAN
METHOD:PUBLISH
X-ORIGINAL-URL:https://nsadvocate.org
X-WR-CALDESC:Events for Nova Scotia Advocate
REFRESH-INTERVAL;VALUE=DURATION:PT1H
X-Robots-Tag:noindex
X-PUBLISHED-TTL:PT1H
BEGIN:VTIMEZONE
TZID:America/Glace_Bay
BEGIN:DAYLIGHT
TZOFFSETFROM:-0400
TZOFFSETTO:-0300
TZNAME:ADT
DTSTART:20210314T060000
END:DAYLIGHT
BEGIN:STANDARD
TZOFFSETFROM:-0300
TZOFFSETTO:-0400
TZNAME:AST
DTSTART:20211107T050000
END:STANDARD
END:VTIMEZONE
BEGIN:VEVENT
DTSTART;TZID=America/Glace_Bay:20210804T183000
DTEND;TZID=America/Glace_Bay:20210804T203000
DTSTAMP:20260422T033159
CREATED:20210802T114613Z
LAST-MODIFIED:20210802T114617Z
UID:21982-1628101800-1628109000@nsadvocate.org
SUMMARY:Nova Scotia All Party Debate on the environment\, biodiversity and climate
DESCRIPTION:KJIPUKTUK (Halifax) – On Wednesday\, Aug. 4 at 6:30 p.m. the Ecology Action Centre\, Sierra Club Atlantic and the Council of Canadians will be hosting a live all-party provincial election debate to hear parties’ positions on critical issues related to the climate and biodiversity crises.  \n\n\n\nSheldon MacLeod\, journalist and host with Saltwire.com will be moderating the debate with representatives from Nova Scotia’s Green\, Liberal\, NDP and PC parties.  \n\n\n\nParticipating Candidates:  \n\n\n\nJessica Alexander – Green Party of Nova Scotia\, Interim Leader and Candidate for Chester-St. Margaret’s Pam Cooley – Nova Scotia Liberal Party\, Candidate for Dartmouth North Scott Ellis – Nova Scotia PC Party\, Candidate for Halifax Needham Tyler Colbourne – Nova Scotia NDP\, Candidate for Dartmouth East \n\n\n\nThis is a hybrid online/in-person event\, seats will be available for a limited number of in-person attendees and it will also be live-streamed on YouTube.  \n\n\n\nWe’re inviting media to attend in person. If you would like a seat\, please contact Hope Perez via the contact information below before Tuesday\, Aug. 4 at 4 p.m. to save your seat.   \n\n\n\nRecap of election debate details:  \n\n\n\nWhen: Wednesday\, Aug. 4\, 2021  \n\n\n\nTime: 6:30pm – 8:30 p.m.   \n\n\n\nWho: Ecology Action Centre\, Sierra Club Atlantic and Council of Canadians   \n\n\n\nWhere (in-person): Ummah Mosque & Community Centre\, 2510 St Matthias St\, Halifax\, NS   \n\n\n\nWhere (online): EAC’s YouTube channel 
URL:https://nsadvocate.org/event/nova-scotia-all-party-debate-on-the-environment-biodiversity-and-climate/
END:VEVENT
END:VCALENDAR