BEGIN:VCALENDAR
VERSION:2.0
PRODID:-//Nova Scotia Advocate - ECPv6.9.0//NONSGML v1.0//EN
CALSCALE:GREGORIAN
METHOD:PUBLISH
X-ORIGINAL-URL:https://nsadvocate.org
X-WR-CALDESC:Events for Nova Scotia Advocate
REFRESH-INTERVAL;VALUE=DURATION:PT1H
X-Robots-Tag:noindex
X-PUBLISHED-TTL:PT1H
BEGIN:VTIMEZONE
TZID:America/Glace_Bay
BEGIN:DAYLIGHT
TZOFFSETFROM:-0400
TZOFFSETTO:-0300
TZNAME:ADT
DTSTART:20210314T060000
END:DAYLIGHT
BEGIN:STANDARD
TZOFFSETFROM:-0300
TZOFFSETTO:-0400
TZNAME:AST
DTSTART:20211107T050000
END:STANDARD
END:VTIMEZONE
BEGIN:VEVENT
DTSTART;TZID=America/Glace_Bay:20210808T170000
DTEND;TZID=America/Glace_Bay:20210808T180000
DTSTAMP:20260421T222446
CREATED:20210805T124420Z
LAST-MODIFIED:20210805T124421Z
UID:22013-1628442000-1628445600@nsadvocate.org
SUMMARY:RALLY FOR PALESTINE: DAY OF RAGE 2.0
DESCRIPTION:Facebook event page: https://www.facebook.com/events/1198875790586081 \n\n\n\nPLEASE SHARE AND REPOST \n\n\n\nJoin us this Sunday\, August 8th at 5PM at Sackville Landing (Waterfront\, Halifax side) for a discussion on the ongoing effects of illegal Israeli settler colonialism on the Indigenous Palestinian people. \n\n\n\nSocial distancing and masks are mandatory.
URL:https://nsadvocate.org/event/rally-for-palestine-day-of-rage-2-0/
END:VEVENT
END:VCALENDAR