BEGIN:VCALENDAR
VERSION:2.0
PRODID:-//Nova Scotia Advocate - ECPv6.9.0//NONSGML v1.0//EN
CALSCALE:GREGORIAN
METHOD:PUBLISH
X-WR-CALNAME:Nova Scotia Advocate
X-ORIGINAL-URL:https://nsadvocate.org
X-WR-CALDESC:Events for Nova Scotia Advocate
REFRESH-INTERVAL;VALUE=DURATION:PT1H
X-Robots-Tag:noindex
X-PUBLISHED-TTL:PT1H
BEGIN:VTIMEZONE
TZID:America/Glace_Bay
BEGIN:DAYLIGHT
TZOFFSETFROM:-0400
TZOFFSETTO:-0300
TZNAME:ADT
DTSTART:20210314T060000
END:DAYLIGHT
BEGIN:STANDARD
TZOFFSETFROM:-0300
TZOFFSETTO:-0400
TZNAME:AST
DTSTART:20211107T050000
END:STANDARD
END:VTIMEZONE
BEGIN:VEVENT
DTSTART;TZID=America/Glace_Bay:20210813T120000
DTEND;TZID=America/Glace_Bay:20210813T130000
DTSTAMP:20260422T014732
CREATED:20210808T213726Z
LAST-MODIFIED:20210809T114013Z
UID:22054-1628856000-1628859600@nsadvocate.org
SUMMARY:Rally at the Legislature in support of disability rights: “Keep your Promise”
DESCRIPTION:The Disability Rights Coalition and the Community Homes Action Group are planning a rally at the Legislature (symbolic) on Friday August 13 at noon in support of disability rights entitled “Keep your Promise”
URL:https://nsadvocate.org/event/rally-at-the-legislature-in-support-of-disability-rights-entitled-keep-your-promise/
END:VEVENT
END:VCALENDAR