BEGIN:VCALENDAR
VERSION:2.0
PRODID:-//Nova Scotia Advocate - ECPv6.9.0//NONSGML v1.0//EN
CALSCALE:GREGORIAN
METHOD:PUBLISH
X-ORIGINAL-URL:https://nsadvocate.org
X-WR-CALDESC:Events for Nova Scotia Advocate
REFRESH-INTERVAL;VALUE=DURATION:PT1H
X-Robots-Tag:noindex
X-PUBLISHED-TTL:PT1H
BEGIN:VTIMEZONE
TZID:America/Glace_Bay
BEGIN:DAYLIGHT
TZOFFSETFROM:-0400
TZOFFSETTO:-0300
TZNAME:ADT
DTSTART:20210314T060000
END:DAYLIGHT
BEGIN:STANDARD
TZOFFSETFROM:-0300
TZOFFSETTO:-0400
TZNAME:AST
DTSTART:20211107T050000
END:STANDARD
END:VTIMEZONE
BEGIN:VEVENT
DTSTART;TZID=America/Glace_Bay:20210819T180000
DTEND;TZID=America/Glace_Bay:20210819T180000
DTSTAMP:20260422T083833
CREATED:20210801T131542Z
LAST-MODIFIED:20210801T131545Z
UID:21978-1629396000-1629396000@nsadvocate.org
SUMMARY:Knowing Your Rights with Landlord Rules
DESCRIPTION:Facebook event page: https://www.facebook.com/events/1648695461992081 \n\n\n\nEvent by Nova Scotia ACORN and Dalhousie Legal Aid Service \n\n\n\nCheck-out this free webinar co-hosted with NS ACORN to learn more about your rights as a tenant with regards to landlord rules! \n\n\n\nCan your landlord make you responsible for all pest control issues or charge you fees for opening windows or having pets? \n\n\n\nThe short answer is no but tune in to learn why as well as what you can do about unlawful landlord rules. \n\n\n\nEmail legalaid@dal.ca with the subject line “Landlord Webinar” to receive to receive the password to the zoom event. \n\n\n\nNote that this webinar is intended for tenants and not for landlords or their employees.
URL:https://nsadvocate.org/event/knowing-your-rights-with-landlord-rules/
END:VEVENT
BEGIN:VEVENT
DTSTART;TZID=America/Glace_Bay:20210819T180000
DTEND;TZID=America/Glace_Bay:20210819T190000
DTSTAMP:20260422T083833
CREATED:20210816T120014Z
LAST-MODIFIED:20210816T120015Z
UID:22157-1629396000-1629399600@nsadvocate.org
SUMMARY:Dartmouth BIG Meeting
DESCRIPTION:Facebook event page: https://www.facebook.com/events/944809356076281/ \n\n\n\nAfter months of community members doing outreach and talking to neighbours\, we are OFFICIALLY forming our Dartmouth ACORN chapter! \n\n\n\nWe’ve heard lots from members in Highfield Park about the issues they’ve been having with their landlords\, and from community members all across Dartmouth. We are fighting for better conditions in the buildings and the city!Come out to our BIG MEETING on Thursday\, August 19th at 6pm to talk to neighbours\, create a plan of action\, and form the Dartmouth ACORN chapter.If you’ve ever been interested in coming to an ACORN meeting – this is the one to do it! And if you’re fed up with the staus quo and want to fight to see something changed – reach out and join your neighbours! \n\n\n\nQuestions? Email halifax@acorncanada.org
URL:https://nsadvocate.org/event/dartmouth-big-meeting/
END:VEVENT
BEGIN:VEVENT
DTSTART;TZID=America/Glace_Bay:20210819T190000
DTEND;TZID=America/Glace_Bay:20210819T210000
DTSTAMP:20260422T083833
CREATED:20210817T143114Z
LAST-MODIFIED:20210817T143326Z
UID:22177-1629399600-1629406800@nsadvocate.org
SUMMARY:ALI presents: Defining reparations in a Canadian context
DESCRIPTION:Three esteemed scholars will discuss the Canadian case for reparations.  https://www.youtube.com/africentrictv
URL:https://nsadvocate.org/event/ali-presents-defining-reparations-in-a-canadian-context/
END:VEVENT
END:VCALENDAR