BEGIN:VCALENDAR
VERSION:2.0
PRODID:-//Nova Scotia Advocate - ECPv6.9.0//NONSGML v1.0//EN
CALSCALE:GREGORIAN
METHOD:PUBLISH
X-ORIGINAL-URL:https://nsadvocate.org
X-WR-CALDESC:Events for Nova Scotia Advocate
REFRESH-INTERVAL;VALUE=DURATION:PT1H
X-Robots-Tag:noindex
X-PUBLISHED-TTL:PT1H
BEGIN:VTIMEZONE
TZID:America/Glace_Bay
BEGIN:DAYLIGHT
TZOFFSETFROM:-0400
TZOFFSETTO:-0300
TZNAME:ADT
DTSTART:20210314T060000
END:DAYLIGHT
BEGIN:STANDARD
TZOFFSETFROM:-0300
TZOFFSETTO:-0400
TZNAME:AST
DTSTART:20211107T050000
END:STANDARD
END:VTIMEZONE
BEGIN:VEVENT
DTSTART;TZID=America/Glace_Bay:20210912T130000
DTEND;TZID=America/Glace_Bay:20210912T150000
DTSTAMP:20260421T190508
CREATED:20210907T165416Z
LAST-MODIFIED:20210907T165436Z
UID:22456-1631451600-1631458800@nsadvocate.org
SUMMARY:United We Call: #StatusForAll (FREE COMMUNITY EVENT)
DESCRIPTION:Join us for our upcoming community event\, which includes: \n\n\n\nlaunch of #StatusForAll art project (in the making for the past year!)silent auction to raise $$$ for our Migrant Solidarity Fundmusic\, poetry & free food \n\n\n\nMore info here: bit.ly/NOII-Hfx_Sept12
URL:https://nsadvocate.org/event/united-we-call-statusforall-free-community-event/
END:VEVENT
END:VCALENDAR